BEGIN:VCALENDAR
VERSION:2.0
PRODID:-//Saúde Online - ECPv6.15.20//NONSGML v1.0//EN
CALSCALE:GREGORIAN
METHOD:PUBLISH
X-WR-CALNAME:Saúde Online
X-ORIGINAL-URL:https://saudeonline.pt
X-WR-CALDESC:Eventos para Saúde Online
REFRESH-INTERVAL;VALUE=DURATION:PT1H
X-Robots-Tag:noindex
X-PUBLISHED-TTL:PT1H
BEGIN:VTIMEZONE
TZID:Europe/Lisbon
BEGIN:DAYLIGHT
TZOFFSETFROM:+0000
TZOFFSETTO:+0100
TZNAME:WEST
DTSTART:20240331T010000
END:DAYLIGHT
BEGIN:STANDARD
TZOFFSETFROM:+0100
TZOFFSETTO:+0000
TZNAME:WET
DTSTART:20241027T010000
END:STANDARD
BEGIN:DAYLIGHT
TZOFFSETFROM:+0000
TZOFFSETTO:+0100
TZNAME:WEST
DTSTART:20250330T010000
END:DAYLIGHT
BEGIN:STANDARD
TZOFFSETFROM:+0100
TZOFFSETTO:+0000
TZNAME:WET
DTSTART:20251026T010000
END:STANDARD
BEGIN:DAYLIGHT
TZOFFSETFROM:+0000
TZOFFSETTO:+0100
TZNAME:WEST
DTSTART:20260329T010000
END:DAYLIGHT
BEGIN:STANDARD
TZOFFSETFROM:+0100
TZOFFSETTO:+0000
TZNAME:WET
DTSTART:20261025T010000
END:STANDARD
END:VTIMEZONE
BEGIN:VEVENT
DTSTART;VALUE=DATE:20251023
DTEND;VALUE=DATE:20251025
DTSTAMP:20260422T002717
CREATED:20250930T143349Z
LAST-MODIFIED:20250930T143349Z
UID:179262-1761177600-1761350399@saudeonline.pt
SUMMARY:XVII Jornadas de Diabetes da Madeira/ 1.º Simpósio de Obesidade
DESCRIPTION:Pode consultar mais informações AQUI.
URL:https://saudeonline.pt/evento/xvii-jornadas-de-diabetes-da-madeira-1-o-simposio-de-obesidade/
LOCATION:Funchal\, Hotel Vidamar Madeira
CATEGORIES:Endo Agenda,MGF Agenda
ATTACH;FMTTYPE=image/jpeg:https://saudeonline.pt/wp-content/uploads/2025/09/cartaz-jornadas-de-diabetes-da-madeira_642-8688950_20250819133120-copiar.jpg
END:VEVENT
BEGIN:VEVENT
DTSTART;VALUE=DATE:20251020
DTEND;VALUE=DATE:20251022
DTSTAMP:20260422T002717
CREATED:20250714T085526Z
LAST-MODIFIED:20250714T085526Z
UID:177214-1760918400-1761091199@saudeonline.pt
SUMMARY:South Side of the Heart 2025
DESCRIPTION:Informamos que o Serviço de Cardiologia da ULS Almada-Seixal está a organizar a reunião “South Side of the Heart 2025″ que terá lugar a 20 e 21 de outubro. \nOs cursos e workshops pré-congresso decorrerão\, a 20 de outubro\, no Hospital Garcia de Orta\, e a 21 de outubro o Hotel Tryp Lisboa Caparica Mar abrirá portas para as sessões científicas. \nEste ano\, o tema em destaque será “Arritmias na Prática Clínica”. \nO evento é destinado não apenas a cardiologistas\, mas também a outros especialistas\, nomeadamente Medicina Interna e Medicina Geral e Familiar. \nInscrições AQUI.
URL:https://saudeonline.pt/evento/south-side-of-the-heart-2025/
CATEGORIES:Cardio Agenda,Med Interna Agenda,MGF Agenda
ATTACH;FMTTYPE=image/jpeg:https://saudeonline.pt/wp-content/uploads/2025/07/Evento-South-Side-of-the-Heart-2025.jpg
END:VEVENT
BEGIN:VEVENT
DTSTART;VALUE=DATE:20251018
DTEND;VALUE=DATE:20251019
DTSTAMP:20260422T002718
CREATED:20250811T151706Z
LAST-MODIFIED:20250811T151706Z
UID:177946-1760745600-1760831999@saudeonline.pt
SUMMARY:X Reunião Anual do Núcleo de Estudos de Doença Vascular Pulmonar
DESCRIPTION:
URL:https://saudeonline.pt/evento/x-reuniao-anual-do-nucleo-de-estudos-de-doenca-vascular-pulmonar/
LOCATION:Hotel NDH D. Inês
CATEGORIES:Med Interna Agenda
ATTACH;FMTTYPE=image/jpeg:https://saudeonline.pt/wp-content/uploads/2025/08/imagens-site_x-reunia-ao-anual-nedvp_h.png-1110x280-1.jpg
END:VEVENT
BEGIN:VEVENT
DTSTART;VALUE=DATE:20251017
DTEND;VALUE=DATE:20251019
DTSTAMP:20260422T002718
CREATED:20250811T155158Z
LAST-MODIFIED:20250811T155158Z
UID:177973-1760659200-1760831999@saudeonline.pt
SUMMARY:Reunião Anual da associação Portuguesa de Diagnóstico Pré-Natal
DESCRIPTION:
URL:https://saudeonline.pt/evento/reuniao-anual-da-associacao-portuguesa-de-diagnostico-pre-natal/
LOCATION:Universidade do Algarve\, Faro
CATEGORIES:Gine Agenda
ATTACH;FMTTYPE=image/jpeg:https://saudeonline.pt/wp-content/uploads/2025/08/reuniao-anual-apdpn-2025_up.jpg
END:VEVENT
BEGIN:VEVENT
DTSTART;VALUE=DATE:20251016
DTEND;VALUE=DATE:20251018
DTSTAMP:20260422T002718
CREATED:20250605T153714Z
LAST-MODIFIED:20250605T153714Z
UID:176094-1760572800-1760745599@saudeonline.pt
SUMMARY:8ª Reunião do Núcleo de Estudos de Geriatria
DESCRIPTION:
URL:https://saudeonline.pt/evento/8a-reuniao-do-nucleo-de-estudos-de-geriatria/
LOCATION:Centro Multimeios de Espinho\, Espinho\, Portugal
CATEGORIES:Med Interna Agenda
ATTACH;FMTTYPE=image/jpeg:https://saudeonline.pt/wp-content/uploads/2025/06/8a-Reuniao-do-Nucleo-de-Estudos-de-Geriatria-eventos.jpg
END:VEVENT
BEGIN:VEVENT
DTSTART;VALUE=DATE:20251010
DTEND;VALUE=DATE:20251012
DTSTAMP:20260422T002718
CREATED:20250714T091137Z
LAST-MODIFIED:20250714T091137Z
UID:177218-1760054400-1760227199@saudeonline.pt
SUMMARY:30.ª Edição Cardio Santarém
DESCRIPTION:Santarém\, 11 de julho de 2025 – O Serviço de Cardiologia da Unidade Local de Saúde da Lezíria (ULS Lezíria) organiza a 30.ª Edição do Cardio Santarém (Jornadas de Cardiologia de Santarém)\, que se realiza este ano nos dias 10 e 11 de outubro. \nO encontro principal terá lugar no dia 11 de outubro\, no Pavilhão Multiusos de Almeirim\, reunindo médicos\, enfermeiros e cardiopneumologistas em diferentes espaços (Auditório\, Sala 1\, Sala 2 e Área de Exposição)\, promovendo a partilha de conhecimento científico e das boas práticas clínicas. \nEm antecipação ao evento\, está agendado um curso pré-jornadas no dia 10 de outubro\, entre as 09h00 e as 13h00\, no Auditório do Hospital Distrital de Santarém. O curso é direcionado a médicos de várias especialidades e abordará o tema: \n“Aspetos a valorizar no eletrocardiograma”. \nPresidido por Vítor Martins\, diretor do Serviço de Cardiologia da ULS Lezíria\, este evento pretende continuar a afirmar-se como um espaço privilegiado de partilha e atualização de conhecimentos para os profissionais de saúde da área cardiovascular. \nO programa completo será disponibilizado em breve no site oficial do evento:\nhttps://jornadas.cardiologia-santarem.org.pt/
URL:https://saudeonline.pt/evento/30-a-edicao-cardio-santarem/
LOCATION:Santarém
CATEGORIES:Cardio Agenda,Med Interna Agenda,MGF Agenda
ATTACH;FMTTYPE=image/jpeg:https://saudeonline.pt/wp-content/uploads/2025/07/Evento-30.a-Edicao-Cardio-Santarem.jpg
END:VEVENT
BEGIN:VEVENT
DTSTART;VALUE=DATE:20251010
DTEND;VALUE=DATE:20251012
DTSTAMP:20260422T002718
CREATED:20250605T152927Z
LAST-MODIFIED:20250605T153415Z
UID:176090-1760054400-1760227199@saudeonline.pt
SUMMARY:XVIII Jornadas do Núcleo de Estudos das Doenças do Fígado (NEDF)
DESCRIPTION:Pode consultar o programa AQUI.
URL:https://saudeonline.pt/evento/xviii-jornadas-do-nucleo-de-estudos-das-doencas-do-figado-nedf/
LOCATION:Hotel Miracorgo\, Vila Real
CATEGORIES:Med Interna Agenda
ATTACH;FMTTYPE=image/jpeg:https://saudeonline.pt/wp-content/uploads/2025/06/XVIII-Jornadas-do-Nucleo-de-Estudos-das-Doencas-do-Figado-NEDF-evento.jpg
END:VEVENT
BEGIN:VEVENT
DTSTART;VALUE=DATE:20251010
DTEND;VALUE=DATE:20251011
DTSTAMP:20260422T002718
CREATED:20251001T102135Z
LAST-MODIFIED:20251001T102135Z
UID:179307-1760054400-1760140799@saudeonline.pt
SUMMARY:Encontro Nacional de Equipas de Cuidados Paliativos Pediátricos
DESCRIPTION:Pode consultar  mais informações AQUI.
URL:https://saudeonline.pt/evento/encontro-nacional-de-equipas-de-cuidados-paliativos-pediatricos/
LOCATION:Hospital Santo André\, Leiria
CATEGORIES:Pedo Agenda
ATTACH;FMTTYPE=image/jpeg:https://saudeonline.pt/wp-content/uploads/2025/10/pedi.jpg
END:VEVENT
BEGIN:VEVENT
DTSTART;VALUE=DATE:20251009
DTEND;VALUE=DATE:20251011
DTSTAMP:20260422T002718
CREATED:20250929T144851Z
LAST-MODIFIED:20250929T144851Z
UID:179197-1759968000-1760140799@saudeonline.pt
SUMMARY:Jornadas SPS25 - Jornadas Nacionais de Senologia
DESCRIPTION:Pode consultar mais informações AQUI.
URL:https://saudeonline.pt/evento/jornadas-sps25-jornadas-nacionais-de-senologia/
LOCATION:Fundação Cupertino de Miranda\, Porto
CATEGORIES:Gine Agenda,Onco Agenda
ATTACH;FMTTYPE=image/jpeg:https://saudeonline.pt/wp-content/uploads/2025/09/senologia.jpg
END:VEVENT
BEGIN:VEVENT
DTSTART;VALUE=DATE:20251009
DTEND;VALUE=DATE:20251011
DTSTAMP:20260422T002718
CREATED:20250812T085655Z
LAST-MODIFIED:20250812T085655Z
UID:178000-1759968000-1760140799@saudeonline.pt
SUMMARY:I Encontro Multidisciplinar Cardiovascular e Pulmonar de MGF dos Açores e Continente/ 1.as Jornadas de Risco Comum CV e Pulmonar e 20.as Jornadas de Pneumologia de em MGF
DESCRIPTION:
URL:https://saudeonline.pt/evento/i-encontro-multidisciplinar-cardiovascular-e-pulmonar-de-mgf-dos-acores-e-continente-1-as-jornadas-de-risco-comum-cv-e-pulmonar-e-20-as-jornadas-de-pneumologia-de-em-mgf/
LOCATION:Hotel Grand A
CATEGORIES:MGF Agenda
ATTACH;FMTTYPE=image/jpeg:https://saudeonline.pt/wp-content/uploads/2025/08/2025_IMAGEM_ACORES-01-1.jpg
END:VEVENT
BEGIN:VEVENT
DTSTART;VALUE=DATE:20251009
DTEND;VALUE=DATE:20251011
DTSTAMP:20260422T002718
CREATED:20250811T143955Z
LAST-MODIFIED:20250811T144530Z
UID:177916-1759968000-1760140799@saudeonline.pt
SUMMARY:11.as Jornadas GRESP
DESCRIPTION:
URL:https://saudeonline.pt/evento/11-as-jornadas-gresp/
LOCATION:Sheraton Porto Hotel & Spa\, Porto
CATEGORIES:MGF Agenda
ATTACH;FMTTYPE=image/jpeg:https://saudeonline.pt/wp-content/uploads/2025/08/Portal-GRESP-2025-1.jpg
END:VEVENT
BEGIN:VEVENT
DTSTART;VALUE=DATE:20251001
DTEND;VALUE=DATE:20251002
DTSTAMP:20260422T002718
CREATED:20250605T151737Z
LAST-MODIFIED:20250605T151737Z
UID:176086-1759276800-1759363199@saudeonline.pt
SUMMARY:Webinar - Abordagem Multidisciplinar das Sequelas Endócrinas do Cancro Pediátrico
DESCRIPTION:Pode consultar o programa AQUI.
URL:https://saudeonline.pt/evento/webinar-abordagem-multidisciplinar-das-sequelas-endocrinas-do-cancro-pediatrico/
LOCATION:Online
CATEGORIES:Endo Agenda,Pedo Agenda
ATTACH;FMTTYPE=image/jpeg:https://saudeonline.pt/wp-content/uploads/2025/06/Webinar-Abordagem-Multidisciplinar-das-Sequelas-Endocrinas-do-Cancro-Pediatrico-evento.jpg
END:VEVENT
BEGIN:VEVENT
DTSTART;VALUE=DATE:20250927
DTEND;VALUE=DATE:20250928
DTSTAMP:20260422T002718
CREATED:20250812T082653Z
LAST-MODIFIED:20250812T082653Z
UID:177984-1758931200-1759017599@saudeonline.pt
SUMMARY:Reunião Anual da Secção de Embriologia
DESCRIPTION:
URL:https://saudeonline.pt/evento/reuniao-anual-da-seccao-de-embriologia/
LOCATION:Hotel Tivoli Oriente\, Lisboa
CATEGORIES:Gine Agenda
ATTACH;FMTTYPE=image/jpeg:https://saudeonline.pt/wp-content/uploads/2025/08/embriologia-b49af9fa.jpg
END:VEVENT
BEGIN:VEVENT
DTSTART;VALUE=DATE:20250927
DTEND;VALUE=DATE:20250928
DTSTAMP:20260422T002718
CREATED:20250811T151033Z
LAST-MODIFIED:20250811T151033Z
UID:177942-1758931200-1759017599@saudeonline.pt
SUMMARY:VI Reunião Anual do Núcleo de Estudos de Insuficiência Cardíaca
DESCRIPTION:
URL:https://saudeonline.pt/evento/vi-reuniao-anual-do-nucleo-de-estudos-de-insuficiencia-cardiaca/
LOCATION:Coimbra\, Hotel Vila Galé\, R. Abel Dias Urbano 20\, Coimbra\, 3000-001\, Portugal
CATEGORIES:Med Interna Agenda
ATTACH;FMTTYPE=image/jpeg:https://saudeonline.pt/wp-content/uploads/2025/08/VI-Reuniao-NEIC.jpg
END:VEVENT
BEGIN:VEVENT
DTSTART;VALUE=DATE:20250927
DTEND;VALUE=DATE:20250928
DTSTAMP:20260422T002718
CREATED:20250605T151048Z
LAST-MODIFIED:20250605T151048Z
UID:176081-1758931200-1759017599@saudeonline.pt
SUMMARY:VI Reunião do Núcleo de Estudos de Insuficiência Cardíaca
DESCRIPTION:Pode consultar o programa AQUI.
URL:https://saudeonline.pt/evento/vi-reuniao-do-nucleo-de-estudos-de-insuficiencia-cardiaca/
LOCATION:Coimbra\, Hotel Vila Galé\, R. Abel Dias Urbano 20\, Coimbra\, 3000-001\, Portugal
CATEGORIES:Med Interna Agenda
ATTACH;FMTTYPE=image/jpeg:https://saudeonline.pt/wp-content/uploads/2025/06/VI-Reuniao-do-Nucleo-de-Estudos-de-Insuficiencia-Cardiaca-evento.jpg
END:VEVENT
BEGIN:VEVENT
DTSTART;VALUE=DATE:20250926
DTEND;VALUE=DATE:20250928
DTSTAMP:20260422T002718
CREATED:20250605T144357Z
LAST-MODIFIED:20250605T144418Z
UID:176064-1758844800-1759017599@saudeonline.pt
SUMMARY:14.ª Reunião Nacional da Sociedade Portuguesa da Contracepção
DESCRIPTION:
URL:https://saudeonline.pt/evento/14-a-reuniao-nacional-da-sociedade-portuguesa-da-contracepcao/
LOCATION:Hotel Meliá Ria Aveiro\, Aveiro\, Portugal
CATEGORIES:Gine Agenda,MGF Agenda
ATTACH;FMTTYPE=image/jpeg:https://saudeonline.pt/wp-content/uploads/2025/06/14a-Reuniao-Nacional-da-Sociedade-Portuguesa-da-Contracepcao-evento.jpg
END:VEVENT
BEGIN:VEVENT
DTSTART;TZID=Europe/Lisbon:20250920T090000
DTEND;TZID=Europe/Lisbon:20250920T163000
DTSTAMP:20260422T002718
CREATED:20250811T142711Z
LAST-MODIFIED:20250811T142711Z
UID:177912-1758358800-1758385800@saudeonline.pt
SUMMARY:3.ª Reunião da Associação dos Médicos dos Idosos Institucionalizados (AMIDI)
DESCRIPTION:A 3.ª Reunião da Associação dos Médicos dos Idosos Institucionalizados (AMIDI) decorre em formato híbrido.
URL:https://saudeonline.pt/evento/3-a-reuniao-da-associacao-dos-medicos-dos-idosos-institucionalizados-amidi/
CATEGORIES:Med Interna Agenda,MGF Agenda
ATTACH;FMTTYPE=image/jpeg:https://saudeonline.pt/wp-content/uploads/2025/08/BANNER-HORIZONTAL-2024-01-1024x272-1.jpg
END:VEVENT
BEGIN:VEVENT
DTSTART;VALUE=DATE:20250920
DTEND;VALUE=DATE:20250921
DTSTAMP:20260422T002718
CREATED:20250812T084211Z
LAST-MODIFIED:20250812T084211Z
UID:177994-1758326400-1758412799@saudeonline.pt
SUMMARY:Reunião Regional do Norte 2025
DESCRIPTION:
URL:https://saudeonline.pt/evento/reuniao-regional-do-norte-2025/
LOCATION:Ordem dos Médicos – Porto
CATEGORIES:Gastro Agenda
END:VEVENT
BEGIN:VEVENT
DTSTART;VALUE=DATE:20250919
DTEND;VALUE=DATE:20250921
DTSTAMP:20260422T002718
CREATED:20250605T143444Z
LAST-MODIFIED:20250605T143444Z
UID:176058-1758240000-1758412799@saudeonline.pt
SUMMARY:CURSO EM CADÁVER Trauma complexo da mão. Como lidar com as lesões de partes moles?
DESCRIPTION:
URL:https://saudeonline.pt/evento/curso-em-cadaver-trauma-complexo-da-mao-como-lidar-com-as-lesoes-de-partes-moles/
LOCATION:Departamento de Anatomia do Hospital de Santa Maria\, Lisboa
ATTACH;FMTTYPE=image/jpeg:https://saudeonline.pt/wp-content/uploads/2025/06/CURSO-EM-CADAVER-Trauma-complexo-da-mao.-Como-lidar-com-as-lesoes-de-partes-moles-eventos.jpg
END:VEVENT
BEGIN:VEVENT
DTSTART;VALUE=DATE:20250919
DTEND;VALUE=DATE:20250921
DTSTAMP:20260422T002718
CREATED:20250605T142506Z
LAST-MODIFIED:20250605T145207Z
UID:176054-1758240000-1758412799@saudeonline.pt
SUMMARY:5.º Congresso Nacional de Hospitalização Domiciliária
DESCRIPTION:Pode consultar o programa AQUI.
URL:https://saudeonline.pt/evento/5o-congresso-nacional-de-hospitalizacao-domiciliaria/
LOCATION:Hotel Vila Galé\, Lagos
CATEGORIES:Med Interna Agenda
ATTACH;FMTTYPE=image/jpeg:https://saudeonline.pt/wp-content/uploads/2025/06/5o-Congresso-Nacional-de-Hospitalizacao-Domiciliaria-evento.jpg
END:VEVENT
BEGIN:VEVENT
DTSTART;VALUE=DATE:20250919
DTEND;VALUE=DATE:20250920
DTSTAMP:20260422T002718
CREATED:20250714T084838Z
LAST-MODIFIED:20250714T084838Z
UID:177206-1758240000-1758326399@saudeonline.pt
SUMMARY:IV Encontro Nacional de Centros de Formação do Serviço Nacional de Saúde
DESCRIPTION:Exmos./as Srs./as\, \nA Associação Portuguesa dos Centros de Formação do Serviço Nacional de Saúde\, APCEF-SNS\, foi formalmente constituída em abril de 2022 com o objetivo de criar uma rede formal para debate sobre os processos formativos do SNS. A APCEF conta atualmente com 26 Instituições de Saúde associadas com representação geográfica em todo Portugal continental Ilhas ( toda a informação sobre a APCEF-SNS pode ser consultada no site https://www.apcefsns.pt ). Desde a sua fundação que a APCEF promove anualmente o Encontro Nacional para os Profissionais da Formação do SNS. \nFeito este breve enquadramento e em nome da Comissão Organizadora do IV Encontro da Associação Portuguesa dos Centros de Formação do Serviço Nacional de Saúde (APCEF-SNS)\, enviamos informação sobre o próximo encontro. \nO IV Encontro da APCEF-SNS será realizado pela primeira vez nos Açores – no Centro Cultural e de Congressos de Angra do Heroísmo – no dia 19 de setembro de 2025\, tendo como tema central “Unir Distâncias\, Potenciar Competências”. \nO foco estará assim no\, por vezes\, difícil acesso à formação em saúde\, dadas as contingências geográficas e o programa está disponível aqui. \nA Comissão Organizadora (CO) é constituída pelos três hospitais da RAA\, pelo IPO do Porto\, pela ULS de Matosinhos \, pela ULS de Santa Maria e pela ULS da Guarda.
URL:https://saudeonline.pt/evento/iv-encontro-nacional-de-centros-de-formacao-do-servico-nacional-de-saude/
LOCATION:Centro Cultural e de Congressos de Angra do Heroísmo
ATTACH;FMTTYPE=image/jpeg:https://saudeonline.pt/wp-content/uploads/2025/07/Evento-IV-Encontro-Nacional-de-Centros-de-Formacao-do-Servico-Nacional-de-Saude.jpg
END:VEVENT
BEGIN:VEVENT
DTSTART;VALUE=DATE:20250918
DTEND;VALUE=DATE:20250921
DTSTAMP:20260422T002718
CREATED:20250605T141458Z
LAST-MODIFIED:20250605T145155Z
UID:176048-1758153600-1758412799@saudeonline.pt
SUMMARY:6.º Curso Intensivo Infeção e Doença VIH
DESCRIPTION:Pode consultar o programa AQUI.
URL:https://saudeonline.pt/evento/6o-curso-intensivo-infecao-e-doenca-vih/
LOCATION:Hotel dos Templários\, Tomar
CATEGORIES:Med Interna Agenda
ATTACH;FMTTYPE=image/jpeg:https://saudeonline.pt/wp-content/uploads/2025/06/6o-Curso-Intensivo-Infecao-e-Doenca-VIH-evento.jpg
END:VEVENT
BEGIN:VEVENT
DTSTART;VALUE=DATE:20250917
DTEND;VALUE=DATE:20250922
DTSTAMP:20260422T002718
CREATED:20250729T153008Z
LAST-MODIFIED:20250729T153008Z
UID:177566-1758067200-1758499199@saudeonline.pt
SUMMARY:WONCA World Conference 2025
DESCRIPTION:Dear Friends and Colleagues\, \nFamily Doctors working in teams with other health professionals and involving communities create a unique ecosystem to provide the right care in a sustainable and appropriate way. This goal combined with Hippocratic principles will keep us as the most advanced defence line of Medicine\, facing challenge times. \nIn September 2025\, the middle of the decade\, we must reinforce the role of Family Medicine and its decisive contribution to a strong Primary Health Care. More than ever we should stand together on the compromise to sustainable development of our world. \nAll Family Doctors acting as leaders\, educators\, researchers and clinicians have the privilege of understanding peoples’ problems and needs\, incorporating in their work detailed knowledge about their families\, communities and social determinants of health. Blending humanism with technology\, we create value in healthcare systems. Population wellbeing is the most important metric in our everyday work! \nTogether with Committees\, WONCA Working Parties and Special Interest Groups\, we are preparing a program to celebrate our discipline. We hope that Lisbon\, an ancient multicultural city\, joining traditions and modernism\, will encourage colleagues from around the world to meet each other personally in our exceptional event. \nSee you in Lisbon! \nScientific Committee\nWONCA World Conference 2025
URL:https://saudeonline.pt/evento/wonca-world-conference-2025/
LOCATION:Lisboa
CATEGORIES:MGF Agenda
ATTACH;FMTTYPE=image/jpeg:https://saudeonline.pt/wp-content/uploads/2025/07/Evento-Wonca-2025.jpg
END:VEVENT
BEGIN:VEVENT
DTSTART;VALUE=DATE:20250917
DTEND;VALUE=DATE:20250920
DTSTAMP:20260422T002718
CREATED:20250311T163515Z
LAST-MODIFIED:20250311T165134Z
UID:172859-1758067200-1758326399@saudeonline.pt
SUMMARY:IM3M - Congresso Multidisciplinar da Dor
DESCRIPTION:
URL:https://saudeonline.pt/evento/im3m-congresso-multidisciplinar-da-dor/
CATEGORIES:Dor Agenda,MGF Agenda
ATTACH;FMTTYPE=image/jpeg:https://saudeonline.pt/wp-content/uploads/2025/02/Evento-CONGRESSO-MULTIDISCIPLINAR-DA-DOR.jpg
END:VEVENT
BEGIN:VEVENT
DTSTART;VALUE=DATE:20250911
DTEND;VALUE=DATE:20250914
DTSTAMP:20260422T002718
CREATED:20250812T084909Z
LAST-MODIFIED:20250812T084909Z
UID:177996-1757548800-1757807999@saudeonline.pt
SUMMARY:I Encontro Multidisciplinar Cardiovascular e Pulmonar de MGF da Madeira e Continente/ 1.as Jornadas de Risco Comum CV e Pulmonar E 8ªS Jornadas de Pneumologia de em MGF
DESCRIPTION:
URL:https://saudeonline.pt/evento/i-encontro-multidisciplinar-cardiovascular-e-pulmonar-de-mgf-da-madeira-e-continente-1-as-jornadas-de-risco-comum-cv-e-pulmonar-e-8as-jornadas-de-pneumologia-de-em-mgf/
LOCATION:Funchal\, Hotel Vidamar Madeira
CATEGORIES:MGF Agenda
ATTACH;FMTTYPE=image/jpeg:https://saudeonline.pt/wp-content/uploads/2025/08/2025_IMAGEM_MADEIRA-PNEUMO-E-RISCO-01.jpg
END:VEVENT
BEGIN:VEVENT
DTSTART;VALUE=DATE:20250712
DTEND;VALUE=DATE:20250713
DTSTAMP:20260422T002718
CREATED:20250311T163311Z
LAST-MODIFIED:20250311T163311Z
UID:172857-1752278400-1752364799@saudeonline.pt
SUMMARY:IM3M - Minicurso em Dor para urgencistas
DESCRIPTION:
URL:https://saudeonline.pt/evento/im3m-minicurso-em-dor-para-urgencistas/
CATEGORIES:Dor Agenda,MGF Agenda
ATTACH;FMTTYPE=image/jpeg:https://saudeonline.pt/wp-content/uploads/2025/02/Evento-Minicurso-em-Dor-para-urgencistas.jpg
END:VEVENT
BEGIN:VEVENT
DTSTART;VALUE=DATE:20250705
DTEND;VALUE=DATE:20250706
DTSTAMP:20260422T002718
CREATED:20250311T163112Z
LAST-MODIFIED:20250311T163112Z
UID:172855-1751673600-1751759999@saudeonline.pt
SUMMARY:IM3M - Minicurso em Medicina da dor - SESIMBRA
DESCRIPTION:
URL:https://saudeonline.pt/evento/im3m-minicurso-em-medicina-da-dor-sesimbra/
CATEGORIES:Dor Agenda,MGF Agenda
ATTACH;FMTTYPE=image/jpeg:https://saudeonline.pt/wp-content/uploads/2025/02/Evento-Minicurso-em-Medicina-da-dor-SESIMBRA.jpg
END:VEVENT
BEGIN:VEVENT
DTSTART;VALUE=DATE:20250704
DTEND;VALUE=DATE:20250706
DTSTAMP:20260422T002718
CREATED:20250605T135359Z
LAST-MODIFIED:20250605T142643Z
UID:176040-1751587200-1751759999@saudeonline.pt
SUMMARY:I Portuguese Conference on Robotic Surgery
DESCRIPTION:Pode consultar o programa AQUI.
URL:https://saudeonline.pt/evento/i-portuguese-conference-on-robotic-surgery/
LOCATION:Conference Centre Pestana Palace\, Lisboa
CATEGORIES:Endo Agenda,Gastro Agenda,Gine Agenda
ATTACH;FMTTYPE=image/jpeg:https://saudeonline.pt/wp-content/uploads/2025/06/Evento-I-Portuguese-Conference-on-Robotic-Surgery.jpg
END:VEVENT
BEGIN:VEVENT
DTSTART;VALUE=DATE:20250704
DTEND;VALUE=DATE:20250705
DTSTAMP:20260422T002718
CREATED:20250605T154647Z
LAST-MODIFIED:20250605T154647Z
UID:176097-1751587200-1751673599@saudeonline.pt
SUMMARY:Obesidade e Gastrenterologia – Vamos fazer bem!
DESCRIPTION:A Sociedade Portuguesa de Gastrenterologia (SPG) promove\, no dia 4 de julho\, a reunião “Obesidade e Gastrenterologia – Vamos fazer bem!”\, dirigida a profissionais de saúde. O encontro realiza-se na sede da SPG\, em Lisboa\, e conta com o apoio da Sociedade Portuguesa de Endoscopia Digestiva (SPED)\, da Sociedade Portuguesa para o Estudo da Obesidade (SPEO) e da Associação Portuguesa de Pessoas que Vivem com Obesidade (ADEXO). \n\nCom a participação de especialistas das áreas da gastrenterologia\, endocrinologia\, fisioterapia\, nutrição e psicologia\, o encontro visa atualizar conhecimentos sobre a obesidade e as abordagens terapêuticas mais atuais\, promovendo uma perspetiva multidisciplinar e centrada no doente. \n\n“A obesidade é uma doença crónica\, grave e difícil de tratar\, e que tem\, como sabemos\, um impacto profundo na saúde digestiva\, estando na origem de várias doenças como o refluxo gastroesofágico\, o fígado gordo e alguns tipos de cancro\, incluindo os do esófago\, cólon\, reto e pâncreas. Com esta reunião\, queremos promover uma abordagem integrada e multidisciplinar\, reforçando a importância da colaboração entre especialidades para oferecer respostas terapêuticas mais eficazes”\, afirma Marília Cravo\, presidente da SPG. \n\nO programa terá início com a sessão “Obesidade: conceitos e objetivos terapêuticos”\, moderada por Marília Cravo e José Silva Nunes\, presidente da SPEO\, que contará com a intervenção de vários especialistas. Em debate\, estarão temas como a história do tratamento da obesidade em Portugal\, a definição da obesidade como doença\, os tipos de comportamentos alimentares e o papel da psicologia e do exercício físico na gestão da doença. \n\nSegue-se a sessão “Obesidade: tratamento para além do comportamento“\, sob a moderação de Alexandre Ferreira\, gastrenterologista\, e Carlos Oliveira\, presidente da ADEXO. O momento será dedicado às novas abordagens terapêuticas\, incluindo farmacoterapia\, endoscopia bariátrica\, cirurgia metabólica e o acesso a tratamento em 2025.
URL:https://saudeonline.pt/evento/obesidade-e-gastrenterologia-vamos-fazer-bem/
LOCATION:Sede da SPG\, Lisboa
CATEGORIES:Gastro Agenda
ATTACH;FMTTYPE=image/jpeg:https://saudeonline.pt/wp-content/uploads/2025/06/Obesidade-e-Gastrenterologia-–-Vamos-fazer-bem-evento.jpg
END:VEVENT
BEGIN:VEVENT
DTSTART;VALUE=DATE:20250627
DTEND;VALUE=DATE:20250629
DTSTAMP:20260422T002718
CREATED:20250408T135433Z
LAST-MODIFIED:20250605T145142Z
UID:174099-1750982400-1751155199@saudeonline.pt
SUMMARY:1.ᵃˢ Jornadas “Imagiologia e os Novos Paradigmas de Intervenção”
DESCRIPTION:Consulte o programa completo . \nInscrições aqui. \nRegulamento . \nO Serviço de Imagiologia da Unidade Local de Saúde de Viseu Dão-Lafões promove\, nos dias 27 e 28 de junho\, as 1as Jornadas “Imagiologia e os Novos Paradigmas de Intervenção”. \nO evento  pretende abordar várias áreas da Imagiologia\, como a Torácica e Abdominal\, da Tiroide e Músculo-esquelética\, Mamária e Radiologia de Intervenção\, entre outros temas. Será também uma oportunidade para refletir sobre o papel dos Enfermeiros e dos Técnicos Auxiliares de Saúde nesta especialidade. \nAs jornadas decorrem no Edifício Expobeiras\, no Parque Industrial de Coimbrões\, em Viseu.
URL:https://saudeonline.pt/evento/1%e1%b5%83%cb%a2-jornadas-imagiologia-e-os-novos-paradigmas-de-intervencao/
LOCATION:Edifício Expobeiras\, Parque Industrial de Coimbrões\, Viseu\, Rua B\, São João de Lourosa\, Viseu
ATTACH;FMTTYPE=image/jpeg:https://saudeonline.pt/wp-content/uploads/2025/04/Evento-1ᵃˢ-Jornadas-Imagiologia-e-os-Novos-Paradigmas-de-Intervencao.jpg
END:VEVENT
END:VCALENDAR