BEGIN:VCALENDAR
VERSION:2.0
PRODID:-//Saúde Online - ECPv6.15.20//NONSGML v1.0//EN
CALSCALE:GREGORIAN
METHOD:PUBLISH
X-WR-CALNAME:Saúde Online
X-ORIGINAL-URL:https://saudeonline.pt
X-WR-CALDESC:Eventos para Saúde Online
REFRESH-INTERVAL;VALUE=DURATION:PT1H
X-Robots-Tag:noindex
X-PUBLISHED-TTL:PT1H
BEGIN:VTIMEZONE
TZID:Europe/Lisbon
BEGIN:DAYLIGHT
TZOFFSETFROM:+0000
TZOFFSETTO:+0100
TZNAME:WEST
DTSTART:20240331T010000
END:DAYLIGHT
BEGIN:STANDARD
TZOFFSETFROM:+0100
TZOFFSETTO:+0000
TZNAME:WET
DTSTART:20241027T010000
END:STANDARD
BEGIN:DAYLIGHT
TZOFFSETFROM:+0000
TZOFFSETTO:+0100
TZNAME:WEST
DTSTART:20250330T010000
END:DAYLIGHT
BEGIN:STANDARD
TZOFFSETFROM:+0100
TZOFFSETTO:+0000
TZNAME:WET
DTSTART:20251026T010000
END:STANDARD
BEGIN:DAYLIGHT
TZOFFSETFROM:+0000
TZOFFSETTO:+0100
TZNAME:WEST
DTSTART:20260329T010000
END:DAYLIGHT
BEGIN:STANDARD
TZOFFSETFROM:+0100
TZOFFSETTO:+0000
TZNAME:WET
DTSTART:20261025T010000
END:STANDARD
BEGIN:DAYLIGHT
TZOFFSETFROM:+0000
TZOFFSETTO:+0100
TZNAME:WEST
DTSTART:20270328T010000
END:DAYLIGHT
BEGIN:STANDARD
TZOFFSETFROM:+0100
TZOFFSETTO:+0000
TZNAME:WET
DTSTART:20271031T010000
END:STANDARD
END:VTIMEZONE
BEGIN:VEVENT
DTSTART;VALUE=DATE:20260129
DTEND;VALUE=DATE:20260131
DTSTAMP:20260421T194827
CREATED:20251211T124049Z
LAST-MODIFIED:20251211T124049Z
UID:181531-1769644800-1769817599@saudeonline.pt
SUMMARY:ASTOR 2026
DESCRIPTION:Pode consultar mais informações AQUI.
URL:https://saudeonline.pt/evento/astor-2026/
CATEGORIES:Dor Agenda,MGF Agenda
ATTACH;FMTTYPE=image/jpeg:https://saudeonline.pt/wp-content/uploads/2025/12/579125602_843416128642208_2743854788301029062_n.jpg
END:VEVENT
BEGIN:VEVENT
DTSTART;VALUE=DATE:20260129
DTEND;VALUE=DATE:20260131
DTSTAMP:20260421T194827
CREATED:20250812T091818Z
LAST-MODIFIED:20250812T091818Z
UID:178007-1769644800-1769817599@saudeonline.pt
SUMMARY:3.as Jornadas de Atualização em Asma e Alergologia para MGF
DESCRIPTION:
URL:https://saudeonline.pt/evento/3-as-jornadas-de-atualizacao-em-asma-e-alergologia-para-mgf/
LOCATION:Hotel VIP Executive Entrecampos\, Lisboa
CATEGORIES:MGF Agenda
ATTACH;FMTTYPE=image/jpeg:https://saudeonline.pt/wp-content/uploads/2025/08/02_asma_santa_maria-nova.jpg
END:VEVENT
BEGIN:VEVENT
DTSTART;VALUE=DATE:20260128
DTEND;VALUE=DATE:20260131
DTSTAMP:20260421T194827
CREATED:20260106T140532Z
LAST-MODIFIED:20260106T140532Z
UID:181852-1769558400-1769817599@saudeonline.pt
SUMMARY:Jornadas de Atualização Cardiovascular 2026 (JAC)
DESCRIPTION:Pode consultar mais informações AQUI.
URL:https://saudeonline.pt/evento/jornadas-de-atualizacao-cardiovascular-2026-jac/
LOCATION:Centro de Congressos da Alfândega do Porto
CATEGORIES:Cardio Agenda
ATTACH;FMTTYPE=image/jpeg:https://saudeonline.pt/wp-content/uploads/2026/01/Qijj-JAC2026-2.jpg
END:VEVENT
BEGIN:VEVENT
DTSTART;VALUE=DATE:20260128
DTEND;VALUE=DATE:20260131
DTSTAMP:20260421T194827
CREATED:20251212T094512Z
LAST-MODIFIED:20251212T094512Z
UID:181565-1769558400-1769817599@saudeonline.pt
SUMMARY:20.º Congresso Português do AVC
DESCRIPTION:Pode consultar mais informações AQUI.
URL:https://saudeonline.pt/evento/20-o-congresso-portugues-do-avc/
CATEGORIES:Cardio Agenda,Med Interna Agenda,MGF Agenda,Neuro Agenda
ATTACH;FMTTYPE=image/jpeg:https://saudeonline.pt/wp-content/uploads/2025/12/Congresso_PT_AVC.jpg
END:VEVENT
BEGIN:VEVENT
DTSTART;VALUE=DATE:20260128
DTEND;VALUE=DATE:20260131
DTSTAMP:20260421T194827
CREATED:20251203T123946Z
LAST-MODIFIED:20251203T123946Z
UID:181285-1769558400-1769817599@saudeonline.pt
SUMMARY:10.ª Conferência Internacional sobre a Infância e a Adolescência
DESCRIPTION:Pode consultar mais informações AQUI.
URL:https://saudeonline.pt/evento/10-a-conferencia-internacional-sobre-a-infancia-e-a-adolescencia/
CATEGORIES:Pedo Agenda
ATTACH;FMTTYPE=image/jpeg:https://saudeonline.pt/wp-content/uploads/2025/12/Poster_ICCA_2026.jpg
END:VEVENT
BEGIN:VEVENT
DTSTART;VALUE=DATE:20260119
DTEND;VALUE=DATE:20260123
DTSTAMP:20260421T194827
CREATED:20260106T150917Z
LAST-MODIFIED:20260112T165539Z
UID:181863-1768780800-1769126399@saudeonline.pt
SUMMARY:20.º Congresso Português de Hipertensão e Risco Cardiovascular Global
DESCRIPTION:Pode consultar mais informações AQUI.
URL:https://saudeonline.pt/evento/20-o-congresso-portugues-de-hipertensao-e-risco-cardiovascular-global/
LOCATION:Hotel Grande Real Santa Eulália\, Praia de Santa Eulália\, Albufeira\, 8200-916\, Portugal
CATEGORIES:Med Interna Agenda,MGF Agenda
ATTACH;FMTTYPE=image/jpeg:https://saudeonline.pt/wp-content/uploads/2026/01/save-the-date_SPH2026.jpg
END:VEVENT
BEGIN:VEVENT
DTSTART;VALUE=DATE:20260116
DTEND;VALUE=DATE:20260118
DTSTAMP:20260421T194827
CREATED:20251126T123752Z
LAST-MODIFIED:20251126T123752Z
UID:181110-1768521600-1768694399@saudeonline.pt
SUMMARY:207.ª Reunião da Sociedade Portuguesa de Ginecologia
DESCRIPTION:Pode consultar mais informações AQUI.
URL:https://saudeonline.pt/evento/207-a-reuniao-da-sociedade-portuguesa-de-ginecologia/
LOCATION:Hotel Solverde\, Espinho\, Avenida da Liberdade\, 212\, Vila Nova de Gaia\, 4410-154\, Portugal
CATEGORIES:Gine Agenda
ATTACH;FMTTYPE=image/jpeg:https://saudeonline.pt/wp-content/uploads/2025/11/endometriose-copiar.jpg
END:VEVENT
BEGIN:VEVENT
DTSTART;VALUE=DATE:20251215
DTEND;VALUE=DATE:20251216
DTSTAMP:20260421T194827
CREATED:20251210T165329Z
LAST-MODIFIED:20251210T165329Z
UID:181422-1765756800-1765843199@saudeonline.pt
SUMMARY:Webinar SPOT IMPRESCINDÍVEL SABER - Tudo sobre Escoliose Idiopática
DESCRIPTION:
URL:https://saudeonline.pt/evento/webinar-spot-imprescindivel-saber-tudo-sobre-escoliose-idiopatica/
CATEGORIES:Reuma Agenda
ATTACH;FMTTYPE=image/jpeg:https://saudeonline.pt/wp-content/uploads/2025/12/Webinar-SPOT-IMPRESCINDIVEL-SABER.jpg
END:VEVENT
BEGIN:VEVENT
DTSTART;VALUE=DATE:20251213
DTEND;VALUE=DATE:20251214
DTSTAMP:20260421T194827
CREATED:20250811T154249Z
LAST-MODIFIED:20250811T154249Z
UID:177964-1765584000-1765670399@saudeonline.pt
SUMMARY:7.ª Reunião Núcleo de Estudos de Prevenção e Risco Vascular
DESCRIPTION:
URL:https://saudeonline.pt/evento/7-a-reuniao-nucleo-de-estudos-de-prevencao-e-risco-vascular/
LOCATION:Hotel MH Peniche
CATEGORIES:Med Interna Agenda
ATTACH;FMTTYPE=image/jpeg:https://saudeonline.pt/wp-content/uploads/2025/08/7-Reuniao-NEPRV.jpg
END:VEVENT
BEGIN:VEVENT
DTSTART;TZID=Europe/Lisbon:20251212T080000
DTEND;TZID=Europe/Lisbon:20251212T170000
DTSTAMP:20260421T194827
CREATED:20251212T101740Z
LAST-MODIFIED:20251212T101740Z
UID:181576-1765526400-1765558800@saudeonline.pt
SUMMARY:72.º Congresso Nacional SPORL-CCP
DESCRIPTION:Pode consultar mais informações AQUI.
URL:https://saudeonline.pt/evento/72-o-congresso-nacional-sporl-ccp/
CATEGORIES:Otorrino Agenda
ATTACH;FMTTYPE=image/jpeg:https://saudeonline.pt/wp-content/uploads/2025/12/Poster_Congresso-Otorrino-2025-Grande.jpg
END:VEVENT
BEGIN:VEVENT
DTSTART;VALUE=DATE:20251204
DTEND;VALUE=DATE:20251206
DTSTAMP:20260421T194827
CREATED:20251126T123212Z
LAST-MODIFIED:20251126T123212Z
UID:181102-1764806400-1764979199@saudeonline.pt
SUMMARY:Jornadas de Ginecologia e Obstetrícia – “Dúvidas e certezas no feminino”
DESCRIPTION:Pode consultar mais informações AQUI.
URL:https://saudeonline.pt/evento/jornadas-de-ginecologia-e-obstetricia-duvidas-e-certezas-no-feminino/
CATEGORIES:Gine Agenda
ATTACH;FMTTYPE=image/jpeg:https://saudeonline.pt/wp-content/uploads/2025/11/jornadasgine2025.jpg
END:VEVENT
BEGIN:VEVENT
DTSTART;VALUE=DATE:20251202
DTEND;VALUE=DATE:20251206
DTSTAMP:20260421T194827
CREATED:20250311T163652Z
LAST-MODIFIED:20250311T163652Z
UID:172861-1764633600-1764979199@saudeonline.pt
SUMMARY:IM3M - Curso Intensivo em Medicina Paliativa
DESCRIPTION:
URL:https://saudeonline.pt/evento/im3m-curso-intensivo-em-medicina-paliativa/
LOCATION:Online
CATEGORIES:Dor Agenda,MGF Agenda
ATTACH;FMTTYPE=image/jpeg:https://saudeonline.pt/wp-content/uploads/2025/02/Evento-CURSO-INTENSIVO-EM-MEDICINA-PALIATIVA-ONLINE.jpg
END:VEVENT
BEGIN:VEVENT
DTSTART;VALUE=DATE:20251128
DTEND;VALUE=DATE:20251129
DTSTAMP:20260421T194827
CREATED:20250811T150320Z
LAST-MODIFIED:20250811T150320Z
UID:177937-1764288000-1764374399@saudeonline.pt
SUMMARY:Jornadas da Mulher e da Criança CUF
DESCRIPTION:
URL:https://saudeonline.pt/evento/jornadas-da-mulher-e-da-crianca-cuf/
LOCATION:Ericeira\, Hotel Vila Galé Ericeira
CATEGORIES:Gine Agenda
ATTACH;FMTTYPE=image/jpeg:https://saudeonline.pt/wp-content/uploads/2025/08/jornadas-mulher-e-crianca-cuf-1.jpg
END:VEVENT
BEGIN:VEVENT
DTSTART;VALUE=DATE:20251127
DTEND;VALUE=DATE:20251129
DTSTAMP:20260421T194827
CREATED:20250811T154046Z
LAST-MODIFIED:20250811T154046Z
UID:177960-1764201600-1764374399@saudeonline.pt
SUMMARY:26.º Congresso do Núcleo de Estudos da Doença Vascular Cerebral
DESCRIPTION:
URL:https://saudeonline.pt/evento/26-o-congresso-do-nucleo-de-estudos-da-doenca-vascular-cerebral/
CATEGORIES:Med Interna Agenda
ATTACH;FMTTYPE=image/jpeg:https://saudeonline.pt/wp-content/uploads/2025/08/GetPagInscricaoLogo.jpg
END:VEVENT
BEGIN:VEVENT
DTSTART;VALUE=DATE:20251126
DTEND;VALUE=DATE:20251129
DTSTAMP:20260421T194827
CREATED:20250811T150036Z
LAST-MODIFIED:20250811T150036Z
UID:177932-1764115200-1764374399@saudeonline.pt
SUMMARY:22.º Congresso Nacional de Oncologia
DESCRIPTION:
URL:https://saudeonline.pt/evento/22-o-congresso-nacional-de-oncologia/
LOCATION:Altice Forum Braga
CATEGORIES:Onco Agenda
ATTACH;FMTTYPE=image/jpeg:https://saudeonline.pt/wp-content/uploads/2025/08/CNO2025.jpg
END:VEVENT
BEGIN:VEVENT
DTSTART;VALUE=DATE:20251121
DTEND;VALUE=DATE:20251123
DTSTAMP:20260421T194827
CREATED:20250812T083553Z
LAST-MODIFIED:20250812T083553Z
UID:177992-1763683200-1763855999@saudeonline.pt
SUMMARY:XVI Congresso APNUG
DESCRIPTION:
URL:https://saudeonline.pt/evento/xvi-congresso-apnug/
LOCATION:Hotel Tryp Lisboa Caparica Mar\, Costa da Caparica\, Portugal
CATEGORIES:Uro Agenda
END:VEVENT
BEGIN:VEVENT
DTSTART;VALUE=DATE:20251121
DTEND;VALUE=DATE:20251123
DTSTAMP:20260421T194827
CREATED:20250811T153848Z
LAST-MODIFIED:20250811T153848Z
UID:177955-1763683200-1763855999@saudeonline.pt
SUMMARY:10.º Congresso Nacional de Urgência
DESCRIPTION:
URL:https://saudeonline.pt/evento/10-o-congresso-nacional-de-urgencia/
CATEGORIES:Med Interna Agenda
ATTACH;FMTTYPE=image/jpeg:https://saudeonline.pt/wp-content/uploads/2025/08/Rotativo_10┬║-Congresso-Congresso-Nacional-de-Urge╠encia.jpg
END:VEVENT
BEGIN:VEVENT
DTSTART;VALUE=DATE:20251120
DTEND;VALUE=DATE:20251123
DTSTAMP:20260421T194827
CREATED:20250930T144008Z
LAST-MODIFIED:20250930T144008Z
UID:179266-1763596800-1763855999@saudeonline.pt
SUMMARY:2.º Encontro de Outono da APMGF
DESCRIPTION:Pode consultar mais informações AQUI.
URL:https://saudeonline.pt/evento/2-o-encontro-de-outono-da-apmgf/
LOCATION:Fátima
CATEGORIES:MGF Agenda
ATTACH;FMTTYPE=image/jpeg:https://saudeonline.pt/wp-content/uploads/2025/09/encontro-outono.jpg
END:VEVENT
BEGIN:VEVENT
DTSTART;VALUE=DATE:20251120
DTEND;VALUE=DATE:20251123
DTSTAMP:20260421T194827
CREATED:20250811T155718Z
LAST-MODIFIED:20250811T155718Z
UID:177977-1763596800-1763855999@saudeonline.pt
SUMMARY:29.º Congresso Português de Obesidade
DESCRIPTION:
URL:https://saudeonline.pt/evento/29-o-congresso-portugues-de-obesidade/
LOCATION:Hotel Meliá Ria Aveiro\, Aveiro\, Portugal
CATEGORIES:Cirurg Agenda,Gastro Agenda,Med Interna Agenda,MGF Agenda
ATTACH;FMTTYPE=image/jpeg:https://saudeonline.pt/wp-content/uploads/2025/08/4a5dadae8236179289a29d4a9cb30754_XL.jpg
END:VEVENT
BEGIN:VEVENT
DTSTART;VALUE=DATE:20251120
DTEND;VALUE=DATE:20251123
DTSTAMP:20260421T194827
CREATED:20250811T154642Z
LAST-MODIFIED:20250811T154642Z
UID:177968-1763596800-1763855999@saudeonline.pt
SUMMARY:7.º Congresso Nacional da SPOMMF
DESCRIPTION:
URL:https://saudeonline.pt/evento/7-o-congresso-nacional-da-spommf/
LOCATION:Ordem dos Médicos – Porto
CATEGORIES:Gine Agenda
ATTACH;FMTTYPE=image/jpeg:https://saudeonline.pt/wp-content/uploads/2025/08/My-10-1920x1080-1.jpg
END:VEVENT
BEGIN:VEVENT
DTSTART;VALUE=DATE:20251119
DTEND;VALUE=DATE:20251122
DTSTAMP:20260421T194827
CREATED:20250812T092332Z
LAST-MODIFIED:20250812T092332Z
UID:178005-1763510400-1763769599@saudeonline.pt
SUMMARY:45.º Congresso Português de Geriatria e Gerontologia
DESCRIPTION:
URL:https://saudeonline.pt/evento/45-o-congresso-portugues-de-geriatria-e-gerontologia/
LOCATION:Hotel VIP Executive Entrecampos\, Lisboa
CATEGORIES:MGF Agenda
ATTACH;FMTTYPE=image/jpeg:https://saudeonline.pt/wp-content/uploads/2025/08/CONGRESSO_GERIATRIA-01-01.jpg
END:VEVENT
BEGIN:VEVENT
DTSTART;VALUE=DATE:20251114
DTEND;VALUE=DATE:20251116
DTSTAMP:20260421T194827
CREATED:20250811T144940Z
LAST-MODIFIED:20250811T144940Z
UID:177925-1763078400-1763251199@saudeonline.pt
SUMMARY:206.ª Reunião da Sociedade Portuguesa de Ginecologia
DESCRIPTION:
URL:https://saudeonline.pt/evento/206-a-reuniao-da-sociedade-portuguesa-de-ginecologia/
LOCATION:Hotel Pestana Palace Lisboa
CATEGORIES:Gine Agenda
ATTACH;FMTTYPE=image/jpeg:https://saudeonline.pt/wp-content/uploads/2025/08/My-2-2.jpg
END:VEVENT
BEGIN:VEVENT
DTSTART;VALUE=DATE:20251113
DTEND;VALUE=DATE:20251115
DTSTAMP:20260421T194827
CREATED:20251023T131649Z
LAST-MODIFIED:20251023T131649Z
UID:179960-1762992000-1763164799@saudeonline.pt
SUMMARY:XXVII Congresso Nacional de Medicina Intensiva Pediátrica
DESCRIPTION:Pode aceder a mais informações AQUI.
URL:https://saudeonline.pt/evento/xxvii-congresso-nacional-de-medicina-intensiva-pediatrica/
LOCATION:Eurostars Oásis Plaza\, Figueira da Foz\, Figueira da Foz\, Portugal
CATEGORIES:Pedo Agenda
ATTACH;FMTTYPE=image/jpeg:https://saudeonline.pt/wp-content/uploads/2025/10/Poster_xxvii-congresso-nacional-de-medicina-intensiva-pedi-trica_.jpg
END:VEVENT
BEGIN:VEVENT
DTSTART;VALUE=DATE:20251106
DTEND;VALUE=DATE:20251109
DTSTAMP:20260421T194827
CREATED:20251030T150217Z
LAST-MODIFIED:20251030T150217Z
UID:180085-1762387200-1762646399@saudeonline.pt
SUMMARY:24.º Congresso Nacional de Dermatologia e Venereologia
DESCRIPTION:Pode consultar mais informações AQUI.
URL:https://saudeonline.pt/evento/24-o-congresso-nacional-de-dermatologia-e-venereologia/
LOCATION:Lisboa
CATEGORIES:Derma Agenda
ATTACH;FMTTYPE=image/jpeg:https://saudeonline.pt/wp-content/uploads/2025/10/ban_24cndv.jpg
END:VEVENT
BEGIN:VEVENT
DTSTART;VALUE=DATE:20251106
DTEND;VALUE=DATE:20251109
DTSTAMP:20260421T194827
CREATED:20250930T142141Z
LAST-MODIFIED:20250930T142141Z
UID:179258-1762387200-1762646399@saudeonline.pt
SUMMARY:ICT 2025. 29th International Congress on Thrombosis
DESCRIPTION:Pode consultar mais informações AQUI.
URL:https://saudeonline.pt/evento/ict-2025-29th-international-congress-on-thrombosis/
LOCATION:Sheraton Porto Hotel & Spa\, Porto
CATEGORIES:Cardio Agenda,Hemato-Onco Agenda,Med Interna Agenda,MGF Agenda,Onco Agenda
ATTACH;FMTTYPE=image/jpeg:https://saudeonline.pt/wp-content/uploads/2025/09/1920x960px_ICT_2025.jpg
END:VEVENT
BEGIN:VEVENT
DTSTART;VALUE=DATE:20251106
DTEND;VALUE=DATE:20251109
DTSTAMP:20260421T194827
CREATED:20250716T144211Z
LAST-MODIFIED:20250716T144211Z
UID:177319-1762387200-1762646399@saudeonline.pt
SUMMARY:Reunião Anual da Sociedade Portuguesa de Hematologia 2025
DESCRIPTION:
URL:https://saudeonline.pt/evento/reuniao-anual-da-sociedade-portuguesa-de-hematologia-2025/
LOCATION:Centro de Congressos de Lisboa\, Praça das Indústrias\, Lisboa\, 1300-307\, Portugal
CATEGORIES:Hemato-Onco Agenda,Onco Agenda
ATTACH;FMTTYPE=image/jpeg:https://saudeonline.pt/wp-content/uploads/2025/07/Evento-Reuniao-anual-SPH-2025-Hematologia.jpg
END:VEVENT
BEGIN:VEVENT
DTSTART;VALUE=DATE:20251029
DTEND;VALUE=DATE:20251101
DTSTAMP:20260421T194827
CREATED:20251001T103037Z
LAST-MODIFIED:20251001T103037Z
UID:179311-1761696000-1761955199@saudeonline.pt
SUMMARY:25.º Congresso Nacional de Pediatria
DESCRIPTION:Pode consultar mais informações AQUI.
URL:https://saudeonline.pt/evento/25-o-congresso-nacional-de-pediatria/
LOCATION:Alfândega do Porto
CATEGORIES:Pedo Agenda
ATTACH;FMTTYPE=image/jpeg:https://saudeonline.pt/wp-content/uploads/2025/10/poster.jpg
END:VEVENT
BEGIN:VEVENT
DTSTART;VALUE=DATE:20251024
DTEND;VALUE=DATE:20251026
DTSTAMP:20260421T194827
CREATED:20250812T083142Z
LAST-MODIFIED:20250812T083142Z
UID:177988-1761264000-1761436799@saudeonline.pt
SUMMARY:XL Reunião Anual NGHD
DESCRIPTION:
URL:https://saudeonline.pt/evento/xl-reuniao-anual-nghd/
LOCATION:Hotel Tryp Lisboa Caparica Mar\, Costa da Caparica\, Portugal
CATEGORIES:Gastro Agenda
ATTACH;FMTTYPE=image/jpeg:https://saudeonline.pt/wp-content/uploads/2025/08/nghd_xl-reunia-o-anual-2025.jpg
END:VEVENT
BEGIN:VEVENT
DTSTART;VALUE=DATE:20251024
DTEND;VALUE=DATE:20251026
DTSTAMP:20260421T194827
CREATED:20250811T152054Z
LAST-MODIFIED:20250811T152054Z
UID:177951-1761264000-1761436799@saudeonline.pt
SUMMARY:19.ª Reunião do Núcleo de Estudos de Diabetes Mellitus
DESCRIPTION:
URL:https://saudeonline.pt/evento/19-a-reuniao-do-nucleo-de-estudos-de-diabetes-mellitus/
LOCATION:Hotel Palace Monte Real\, Leiria
CATEGORIES:Med Interna Agenda
ATTACH;FMTTYPE=image/jpeg:https://saudeonline.pt/wp-content/uploads/2025/08/My-4.jpg
END:VEVENT
BEGIN:VEVENT
DTSTART;VALUE=DATE:20251024
DTEND;VALUE=DATE:20251025
DTSTAMP:20260421T194827
CREATED:20250811T144455Z
LAST-MODIFIED:20250811T144455Z
UID:177920-1761264000-1761350399@saudeonline.pt
SUMMARY:9.º Encontro de Médicos de Família do Algarve
DESCRIPTION:
URL:https://saudeonline.pt/evento/9-o-encontro-de-medicos-de-familia-do-algarve/
LOCATION:Hotel Dom Pedro Vilamoura
CATEGORIES:MGF Agenda
ATTACH;FMTTYPE=image/jpeg:https://saudeonline.pt/wp-content/uploads/2025/08/Algarve_2025_600x400.jpg
END:VEVENT
END:VCALENDAR