BEGIN:VCALENDAR
VERSION:2.0
PRODID:-//Saúde Online - ECPv6.15.20//NONSGML v1.0//EN
CALSCALE:GREGORIAN
METHOD:PUBLISH
X-ORIGINAL-URL:https://saudeonline.pt
X-WR-CALDESC:Eventos para Saúde Online
REFRESH-INTERVAL;VALUE=DURATION:PT1H
X-Robots-Tag:noindex
X-PUBLISHED-TTL:PT1H
BEGIN:VTIMEZONE
TZID:Europe/Lisbon
BEGIN:DAYLIGHT
TZOFFSETFROM:+0000
TZOFFSETTO:+0100
TZNAME:WEST
DTSTART:20250330T010000
END:DAYLIGHT
BEGIN:STANDARD
TZOFFSETFROM:+0100
TZOFFSETTO:+0000
TZNAME:WET
DTSTART:20251026T010000
END:STANDARD
BEGIN:DAYLIGHT
TZOFFSETFROM:+0000
TZOFFSETTO:+0100
TZNAME:WEST
DTSTART:20260329T010000
END:DAYLIGHT
BEGIN:STANDARD
TZOFFSETFROM:+0100
TZOFFSETTO:+0000
TZNAME:WET
DTSTART:20261025T010000
END:STANDARD
BEGIN:DAYLIGHT
TZOFFSETFROM:+0000
TZOFFSETTO:+0100
TZNAME:WEST
DTSTART:20270328T010000
END:DAYLIGHT
BEGIN:STANDARD
TZOFFSETFROM:+0100
TZOFFSETTO:+0000
TZNAME:WET
DTSTART:20271031T010000
END:STANDARD
END:VTIMEZONE
BEGIN:VEVENT
DTSTART;VALUE=DATE:20260404
DTEND;VALUE=DATE:20260406
DTSTAMP:20260421T145919
CREATED:20260126T142051Z
LAST-MODIFIED:20260126T142051Z
UID:182414-1775260800-1775433599@saudeonline.pt
SUMMARY:Reunião da Primavera da SPOMMF
DESCRIPTION:Pode consultar mais informações AQUI.
URL:https://saudeonline.pt/evento/reuniao-da-primavera-da-spommf/
CATEGORIES:Gine Agenda
ATTACH;FMTTYPE=image/jpeg:https://saudeonline.pt/wp-content/uploads/2026/01/spommf.jpg
END:VEVENT
BEGIN:VEVENT
DTSTART;VALUE=DATE:20260326
DTEND;VALUE=DATE:20260329
DTSTAMP:20260421T145919
CREATED:20260224T121755Z
LAST-MODIFIED:20260224T121755Z
UID:183756-1774483200-1774742399@saudeonline.pt
SUMMARY:31.º Congresso Português de Cardiopneumologia
DESCRIPTION:Pode consultar mais informações AQUI.
URL:https://saudeonline.pt/evento/31-o-congresso-portugues-de-cardiopneumologia/
CATEGORIES:Cardio Agenda
ATTACH;FMTTYPE=image/jpeg:https://saudeonline.pt/wp-content/uploads/2026/02/Cartaz_31CPC.jpg
END:VEVENT
BEGIN:VEVENT
DTSTART;VALUE=DATE:20260326
DTEND;VALUE=DATE:20260329
DTSTAMP:20260421T145919
CREATED:20260224T120937Z
LAST-MODIFIED:20260224T120937Z
UID:183752-1774483200-1774742399@saudeonline.pt
SUMMARY:1.º Congresso Internacional de Reabilitação Respiratória (CIRR)
DESCRIPTION:Pode consultar mais informações AQUI.
URL:https://saudeonline.pt/evento/1-o-congresso-internacional-de-reabilitacao-respiratoria-cirr/
CATEGORIES:Cardio Agenda
ATTACH;FMTTYPE=image/jpeg:https://saudeonline.pt/wp-content/uploads/2026/02/fb.jpg
END:VEVENT
BEGIN:VEVENT
DTSTART;VALUE=DATE:20260326
DTEND;VALUE=DATE:20260328
DTSTAMP:20260421T145919
CREATED:20260209T114409Z
LAST-MODIFIED:20260209T114409Z
UID:183118-1774483200-1774655999@saudeonline.pt
SUMMARY:VII Congresso Nacional da AUCC – Associação de Unidades de Cuidados na Comunidade
DESCRIPTION:Pode consultar mais informações AQUI.
URL:https://saudeonline.pt/evento/vii-congresso-nacional-da-aucc-associacao-de-unidades-de-cuidados-na-comunidade/
CATEGORIES:MGF Agenda
ATTACH;FMTTYPE=image/jpeg:https://saudeonline.pt/wp-content/uploads/2026/02/aucc.jpg
END:VEVENT
BEGIN:VEVENT
DTSTART;VALUE=DATE:20260325
DTEND;VALUE=DATE:20260329
DTSTAMP:20260421T145919
CREATED:20260324T165649Z
LAST-MODIFIED:20260324T165649Z
UID:185038-1774396800-1774742399@saudeonline.pt
SUMMARY:IX edição do START MGF
DESCRIPTION:Pode consultar mais informações AQUI.
URL:https://saudeonline.pt/evento/ix-edicao-do-start-mgf/
CATEGORIES:MGF Agenda
ATTACH;FMTTYPE=image/jpeg:https://saudeonline.pt/wp-content/uploads/2026/03/normal_68e95d6ae500b.jpg
END:VEVENT
BEGIN:VEVENT
DTSTART;VALUE=DATE:20260323
DTEND;VALUE=DATE:20260327
DTSTAMP:20260421T145919
CREATED:20251210T164816Z
LAST-MODIFIED:20251210T164834Z
UID:181418-1774224000-1774569599@saudeonline.pt
SUMMARY:6th Global Conference on Myositis
DESCRIPTION:
URL:https://saudeonline.pt/evento/6th-global-conference-on-myositis/
LOCATION:Centro de Congressos de Lisboa\, Lisboa
CATEGORIES:Reuma Agenda
ATTACH;FMTTYPE=image/jpeg:https://saudeonline.pt/wp-content/uploads/2025/12/6th-global-conference-on-myositis.jpg
END:VEVENT
BEGIN:VEVENT
DTSTART;VALUE=DATE:20260321
DTEND;VALUE=DATE:20260322
DTSTAMP:20260421T145919
CREATED:20251211T114206Z
LAST-MODIFIED:20251211T114206Z
UID:181480-1774051200-1774137599@saudeonline.pt
SUMMARY:5.as Jornadas do Núcleo de Estudos de Medicina Obstétrica
DESCRIPTION:Pode consultar mais informações AQUI.
URL:https://saudeonline.pt/evento/5-as-jornadas-do-nucleo-de-estudos-de-medicina-obstetrica/
CATEGORIES:Med Interna Agenda
ATTACH;FMTTYPE=image/jpeg:https://saudeonline.pt/wp-content/uploads/2025/12/Jornadas_Nemo.jpg
END:VEVENT
BEGIN:VEVENT
DTSTART;VALUE=DATE:20260320
DTEND;VALUE=DATE:20260322
DTSTAMP:20260421T145919
CREATED:20251211T154053Z
LAST-MODIFIED:20251211T154053Z
UID:181553-1773964800-1774137599@saudeonline.pt
SUMMARY:29th International Meeting: Update on Dermatology Treatments
DESCRIPTION:Pode consultar mais informações AQUI.
URL:https://saudeonline.pt/evento/29th-international-meeting-update-on-dermatology-treatments/
CATEGORIES:Derma Agenda
ATTACH;FMTTYPE=image/jpeg:https://saudeonline.pt/wp-content/uploads/2021/09/SPDV-Novo-.jpg
END:VEVENT
BEGIN:VEVENT
DTSTART;VALUE=DATE:20260320
DTEND;VALUE=DATE:20260322
DTSTAMP:20260421T145919
CREATED:20251203T111106Z
LAST-MODIFIED:20251203T111106Z
UID:181274-1773964800-1774137599@saudeonline.pt
SUMMARY:Congresso da Sociedade Portuguesa de Anestesiologia
DESCRIPTION:Pode consultar mais informações AQUI.
URL:https://saudeonline.pt/evento/congresso-da-sociedade-portuguesa-de-anestesiologia/
LOCATION:Hotel Hilton Porto Gaia\, R. de Serpa Pinto 124\, 4400-307 Vila Nova de Gaia\, Porto\, Vila Nova de Gaia\, 4400-307\, Portugal
CATEGORIES:Dor Agenda
ATTACH;FMTTYPE=image/jpeg:https://saudeonline.pt/wp-content/uploads/2025/12/spa.jpg
END:VEVENT
BEGIN:VEVENT
DTSTART;VALUE=DATE:20260320
DTEND;VALUE=DATE:20260321
DTSTAMP:20260421T145919
CREATED:20260224T152022Z
LAST-MODIFIED:20260224T152022Z
UID:183807-1773964800-1774051199@saudeonline.pt
SUMMARY:6.º Curso Clínico de Osteoporose
DESCRIPTION:Pode consultar mais informações AQUI.
URL:https://saudeonline.pt/evento/6-o-curso-clinico-de-osteoporose/
CATEGORIES:Reuma Agenda
ATTACH;FMTTYPE=image/jpeg:https://saudeonline.pt/wp-content/uploads/2026/02/Save-The-date-scaled-1.jpg
END:VEVENT
BEGIN:VEVENT
DTSTART;VALUE=DATE:20260320
DTEND;VALUE=DATE:20260321
DTSTAMP:20260421T145919
CREATED:20251211T113846Z
LAST-MODIFIED:20251211T113846Z
UID:181476-1773964800-1774051199@saudeonline.pt
SUMMARY:1.as Jornadas da Primavera do NGHD
DESCRIPTION:Pode consultar mais informações AQUI.
URL:https://saudeonline.pt/evento/1-as-jornadas-da-primavera-do-nghd/
CATEGORIES:Gastro Agenda
ATTACH;FMTTYPE=image/jpeg:https://saudeonline.pt/wp-content/uploads/2025/12/site-ad-me-udic-1as-jornadas-da-primavera-do-nghd-h3.png-1110x300-1.jpg
END:VEVENT
BEGIN:VEVENT
DTSTART;VALUE=DATE:20260319
DTEND;VALUE=DATE:20260322
DTSTAMP:20260421T145919
CREATED:20251217T120645Z
LAST-MODIFIED:20251217T121050Z
UID:181682-1773878400-1774137599@saudeonline.pt
SUMMARY:VIII Jornadas Multidisciplinares de Medicina Geral e Familiar
DESCRIPTION:Pode consultar mais informações AQUI.
URL:https://saudeonline.pt/evento/viii-jornadas-multidisciplinares-de-medicina-geral-e-familiar/
CATEGORIES:MGF Agenda
ATTACH;FMTTYPE=image/jpeg:https://saudeonline.pt/wp-content/uploads/2025/12/jmul-1.jpg
END:VEVENT
BEGIN:VEVENT
DTSTART;VALUE=DATE:20260313
DTEND;VALUE=DATE:20260315
DTSTAMP:20260421T145919
CREATED:20251211T113435Z
LAST-MODIFIED:20251216T120203Z
UID:181472-1773360000-1773532799@saudeonline.pt
SUMMARY:208.ª Reunião da Sociedade Portuguesa de Ginecologia
DESCRIPTION:Pode consultar mais informações AQUI.
URL:https://saudeonline.pt/evento/208-a-reuniao-da-sociedade-portuguesa-de-ginecologia/
LOCATION:Hotel Tryp Lisboa Caparica Mar\, Costa da Caparica\, Portugal
CATEGORIES:Gine Agenda
ATTACH;FMTTYPE=image/jpeg:https://saudeonline.pt/wp-content/uploads/2025/12/site-ad-me-udic_208-a-reunia-ao-da-sociedade-portuguesa-de-ginecologia-h.png-1110x300-1.jpg
END:VEVENT
BEGIN:VEVENT
DTSTART;VALUE=DATE:20260312
DTEND;VALUE=DATE:20260314
DTSTAMP:20260421T145919
CREATED:20260224T152506Z
LAST-MODIFIED:20260224T152506Z
UID:183810-1773273600-1773446399@saudeonline.pt
SUMMARY:Curso Básico de Ecografia da ESPER – Escola de Ecografia da Sociedade Portuguesa de Reumatologia
DESCRIPTION:Pode consultar mais informações AQUI.
URL:https://saudeonline.pt/evento/curso-basico-de-ecografia-da-esper-escola-de-ecografia-da-sociedade-portuguesa-de-reumatologia/
CATEGORIES:Reuma Agenda
ATTACH;FMTTYPE=image/jpeg:https://saudeonline.pt/wp-content/uploads/2026/02/Logo-ESPER.jpg
END:VEVENT
BEGIN:VEVENT
DTSTART;VALUE=DATE:20260312
DTEND;VALUE=DATE:20260314
DTSTAMP:20260421T145919
CREATED:20251210T162843Z
LAST-MODIFIED:20251210T163505Z
UID:181409-1773273600-1773446399@saudeonline.pt
SUMMARY:IX Curso Pós-Graduado de Atualização em Cardio-Oncologia
DESCRIPTION:
URL:https://saudeonline.pt/evento/ix-curso-pos-graduado-de-atualizacao-em-cardio-oncologia/
LOCATION:Faculdade de Medicina da Universidade de Lisboa
CATEGORIES:Cardio Agenda,Hemato-Onco Agenda,Onco Agenda
ATTACH;FMTTYPE=image/jpeg:https://saudeonline.pt/wp-content/uploads/2025/12/IX-Curso-Pos-Graduado-de-Atualizacao-em-Cardio-Oncologia.jpg
END:VEVENT
BEGIN:VEVENT
DTSTART;VALUE=DATE:20260306
DTEND;VALUE=DATE:20260307
DTSTAMP:20260421T145919
CREATED:20251211T153532Z
LAST-MODIFIED:20251211T153532Z
UID:181551-1772755200-1772841599@saudeonline.pt
SUMMARY:14.º Curso de Actualização em Dermatologia Pediátrica
DESCRIPTION:Pode consultar mais informações AQUI.
URL:https://saudeonline.pt/evento/14-o-curso-de-actualizacao-em-dermatologia-pediatrica/
CATEGORIES:Derma Agenda
END:VEVENT
BEGIN:VEVENT
DTSTART;VALUE=DATE:20260305
DTEND;VALUE=DATE:20260308
DTSTAMP:20260421T145919
CREATED:20260224T141837Z
LAST-MODIFIED:20260224T141837Z
UID:183772-1772668800-1772927999@saudeonline.pt
SUMMARY:XV Congresso Nacional de Patologia Clínica
DESCRIPTION:Pode consultar mais informações AQUI.
URL:https://saudeonline.pt/evento/xv-congresso-nacional-de-patologia-clinica/
CATEGORIES:Hemato-Onco Agenda
ATTACH;FMTTYPE=image/jpeg:https://saudeonline.pt/wp-content/uploads/2026/02/STD-LinkedIn-XV-Congresso-SPPC-1300x800-1-1024x630-1.jpg
END:VEVENT
BEGIN:VEVENT
DTSTART;VALUE=DATE:20260305
DTEND;VALUE=DATE:20260308
DTSTAMP:20260421T145919
CREATED:20260224T141343Z
LAST-MODIFIED:20260224T141343Z
UID:183769-1772668800-1772927999@saudeonline.pt
SUMMARY:22.º Congresso Português de Diabetes
DESCRIPTION:Pode consultar mais informações AQUI.
URL:https://saudeonline.pt/evento/22-o-congresso-portugues-de-diabetes/
CATEGORIES:Endo Agenda,Med Interna Agenda,MGF Agenda
ATTACH;FMTTYPE=image/jpeg:https://saudeonline.pt/wp-content/uploads/2026/02/1756774453039.jpg
END:VEVENT
BEGIN:VEVENT
DTSTART;VALUE=DATE:20260227
DTEND;VALUE=DATE:20260228
DTSTAMP:20260421T145919
CREATED:20260127T092631Z
LAST-MODIFIED:20260127T092631Z
UID:182429-1772150400-1772236799@saudeonline.pt
SUMMARY:5.º Congresso do Cancro da Mama do Algarve
DESCRIPTION:Pode consultar mais informações AQUI.
URL:https://saudeonline.pt/evento/5-o-congresso-do-cancro-da-mama-do-algarve/
CATEGORIES:Onco Agenda
ATTACH;FMTTYPE=image/jpeg:https://saudeonline.pt/wp-content/uploads/2026/01/mama.jpg
END:VEVENT
BEGIN:VEVENT
DTSTART;VALUE=DATE:20260226
DTEND;VALUE=DATE:20260228
DTSTAMP:20260421T145919
CREATED:20251211T112900Z
LAST-MODIFIED:20251211T112900Z
UID:181468-1772064000-1772236799@saudeonline.pt
SUMMARY:30.as Jornadas Nacionais Patient Care
DESCRIPTION:Pode consultar mais informações AQUI.
URL:https://saudeonline.pt/evento/30-as-jornadas-nacionais-patient-care/
CATEGORIES:MGF Agenda
ATTACH;FMTTYPE=image/jpeg:https://saudeonline.pt/wp-content/uploads/2025/12/imagens-site-_30jnpc_2026_h1.png-1110x300-1.jpg
END:VEVENT
BEGIN:VEVENT
DTSTART;VALUE=DATE:20260225
DTEND;VALUE=DATE:20260228
DTSTAMP:20260421T145919
CREATED:20251211T124410Z
LAST-MODIFIED:20251211T124410Z
UID:181534-1771977600-1772236799@saudeonline.pt
SUMMARY:XIV Perspectivas em Oncologia
DESCRIPTION:Pode consultar mais informações AQUI.
URL:https://saudeonline.pt/evento/xiv-perspectivas-em-oncologia/
CATEGORIES:Onco Agenda
ATTACH;FMTTYPE=image/jpeg:https://saudeonline.pt/wp-content/uploads/2025/12/BANNER_1080x180_PO_2026_V02-1024x1024-1.jpg
END:VEVENT
BEGIN:VEVENT
DTSTART;TZID=Europe/Lisbon:20260224T080000
DTEND;TZID=Europe/Lisbon:20260224T170000
DTSTAMP:20260421T145919
CREATED:20260224T142127Z
LAST-MODIFIED:20260224T142127Z
UID:183777-1771920000-1771952400@saudeonline.pt
SUMMARY:II Congresso de Medicina da ULS Algarve
DESCRIPTION:Pode consultar mais informações AQUI.
URL:https://saudeonline.pt/evento/ii-congresso-de-medicina-da-uls-algarve/
CATEGORIES:Med Interna Agenda
ATTACH;FMTTYPE=image/jpeg:https://saudeonline.pt/wp-content/uploads/2026/02/sscc.jpg
END:VEVENT
BEGIN:VEVENT
DTSTART;VALUE=DATE:20260224
DTEND;VALUE=DATE:20260225
DTSTAMP:20260421T145919
CREATED:20251211T112433Z
LAST-MODIFIED:20251211T112433Z
UID:181464-1771891200-1771977599@saudeonline.pt
SUMMARY:III Jornadas do CRI: Integração de Cuidados no Tratamento Cirúrgico da Obesidade
DESCRIPTION:Pode consultar mais informações AQUI.
URL:https://saudeonline.pt/evento/iii-jornadas-do-cri-integracao-de-cuidados-no-tratamento-cirurgico-da-obesidade/
CATEGORIES:Cirurg Agenda,Gastro Agenda,Med Interna Agenda,MGF Agenda
ATTACH;FMTTYPE=image/jpeg:https://saudeonline.pt/wp-content/uploads/2025/12/Capturar-1-1.jpg
END:VEVENT
BEGIN:VEVENT
DTSTART;VALUE=DATE:20260219
DTEND;VALUE=DATE:20260222
DTSTAMP:20260421T145919
CREATED:20251211T121839Z
LAST-MODIFIED:20251211T121839Z
UID:181515-1771459200-1771718399@saudeonline.pt
SUMMARY:15.as Jornadas Práticas de Diabetologia e Obesidade em MGF da Zona Sul
DESCRIPTION:Pode consultar mais informações AQUI.
URL:https://saudeonline.pt/evento/15-as-jornadas-praticas-de-diabetologia-e-obesidade-em-mgf-da-zona-sul/
ATTACH;FMTTYPE=image/jpeg:https://saudeonline.pt/wp-content/uploads/2025/12/01_diabetes_sul-01-2.jpg
END:VEVENT
BEGIN:VEVENT
DTSTART;VALUE=DATE:20260214
DTEND;VALUE=DATE:20260216
DTSTAMP:20260421T145919
CREATED:20251212T101253Z
LAST-MODIFIED:20251212T101253Z
UID:181573-1771027200-1771199999@saudeonline.pt
SUMMARY:1.ª Jornadas ORL do Hospital Lusíadas Lisboa
DESCRIPTION:Pode consultar mais informações AQUI.
URL:https://saudeonline.pt/evento/1-a-jornadas-orl-do-hospital-lusiadas-lisboa/
CATEGORIES:Otorrino Agenda
ATTACH;FMTTYPE=image/jpeg:https://saudeonline.pt/wp-content/uploads/2025/12/transferir-2.jpg
END:VEVENT
BEGIN:VEVENT
DTSTART;VALUE=DATE:20260212
DTEND;VALUE=DATE:20260214
DTSTAMP:20260421T145919
CREATED:20251211T111642Z
LAST-MODIFIED:20251211T111642Z
UID:181459-1770854400-1771027199@saudeonline.pt
SUMMARY:Cuidados de saúde partilhados em Urologia e Medicina Geral e Familiar
DESCRIPTION:Pode consultar mais informações AQUI.
URL:https://saudeonline.pt/evento/cuidados-de-saude-partilhados-em-urologia-e-medicina-geral-e-familiar/
LOCATION:Casa do Médico – Secção Regional do Norte da Ordem dos Médicos\, Porto\, Portugal
CATEGORIES:MGF Agenda,Uro Agenda
ATTACH;FMTTYPE=image/jpeg:https://saudeonline.pt/wp-content/uploads/2025/12/imagens-site-cuidados-de-sau-ude-partilhados-em-urologia-e-medicina-geral-e-familiar-oco-2025.jpg-1110x300-1.jpg
END:VEVENT
BEGIN:VEVENT
DTSTART;VALUE=DATE:20260205
DTEND;VALUE=DATE:20260208
DTSTAMP:20260421T145919
CREATED:20251217T121756Z
LAST-MODIFIED:20251217T121756Z
UID:181687-1770249600-1770508799@saudeonline.pt
SUMMARY:Allergy & Respiratory Summit 2026
DESCRIPTION:Pode consultar mais informações AQUI.
URL:https://saudeonline.pt/evento/allergy-respiratory-summit-2026/
CATEGORIES:MGF Agenda
ATTACH;FMTTYPE=image/png:https://saudeonline.pt/wp-content/uploads/2025/12/allergy.png
END:VEVENT
BEGIN:VEVENT
DTSTART;TZID=Europe/Lisbon:20260129T080000
DTEND;TZID=Europe/Lisbon:20260130T170000
DTSTAMP:20260421T145919
CREATED:20251217T120159Z
LAST-MODIFIED:20251217T120159Z
UID:181678-1769673600-1769792400@saudeonline.pt
SUMMARY:8th BrEaST Cancer Weekend
DESCRIPTION:A Clínica de Mama do IPO Porto tem muito gosto em anunciar a 8ª Reunião “O melhor do tratamento do cancro da mama em 2025”\, a realizar-se nos dias 29 e 30 de janeiro 2026 no Auditório Principal do IPO Porto.
URL:https://saudeonline.pt/evento/8th-breast-cancer-weekend/
LOCATION:Auditório IPO Porto
CATEGORIES:Onco Agenda
ATTACH;FMTTYPE=image/jpeg:https://saudeonline.pt/wp-content/uploads/2025/12/breastcancer2026.jpg
END:VEVENT
BEGIN:VEVENT
DTSTART;VALUE=DATE:20260129
DTEND;VALUE=DATE:20260202
DTSTAMP:20260421T145919
CREATED:20251212T100305Z
LAST-MODIFIED:20251212T100305Z
UID:181569-1769644800-1769990399@saudeonline.pt
SUMMARY:Congresso Português de Endocrinologia 2026
DESCRIPTION:Pode consultar mais informações AQUI.
URL:https://saudeonline.pt/evento/congresso-portugues-de-endocrinologia-2026/
CATEGORIES:Endo Agenda
ATTACH;FMTTYPE=image/jpeg:https://saudeonline.pt/wp-content/uploads/2025/12/250730_SPEDM2026_RedesSociais_1640X856px.jpg
END:VEVENT
BEGIN:VEVENT
DTSTART;VALUE=DATE:20260129
DTEND;VALUE=DATE:20260131
DTSTAMP:20260421T145919
CREATED:20260106T141121Z
LAST-MODIFIED:20260106T141121Z
UID:181857-1769644800-1769817599@saudeonline.pt
SUMMARY:Heart Team 2026
DESCRIPTION:Pode consultar mais informações AQUI.
URL:https://saudeonline.pt/evento/heart-team-2026/
LOCATION:SDivine Fátima Hotel\, Fátima
CATEGORIES:Cardio Agenda
ATTACH;FMTTYPE=image/jpeg:https://saudeonline.pt/wp-content/uploads/2026/01/heart-team-1.jpg
END:VEVENT
END:VCALENDAR