BEGIN:VCALENDAR
VERSION:2.0
PRODID:-//Saúde Online - ECPv6.15.20//NONSGML v1.0//EN
CALSCALE:GREGORIAN
METHOD:PUBLISH
X-ORIGINAL-URL:https://saudeonline.pt
X-WR-CALDESC:Eventos para Saúde Online
REFRESH-INTERVAL;VALUE=DURATION:PT1H
X-Robots-Tag:noindex
X-PUBLISHED-TTL:PT1H
BEGIN:VTIMEZONE
TZID:Europe/Lisbon
BEGIN:DAYLIGHT
TZOFFSETFROM:+0000
TZOFFSETTO:+0100
TZNAME:WEST
DTSTART:20250330T010000
END:DAYLIGHT
BEGIN:STANDARD
TZOFFSETFROM:+0100
TZOFFSETTO:+0000
TZNAME:WET
DTSTART:20251026T010000
END:STANDARD
BEGIN:DAYLIGHT
TZOFFSETFROM:+0000
TZOFFSETTO:+0100
TZNAME:WEST
DTSTART:20260329T010000
END:DAYLIGHT
BEGIN:STANDARD
TZOFFSETFROM:+0100
TZOFFSETTO:+0000
TZNAME:WET
DTSTART:20261025T010000
END:STANDARD
BEGIN:DAYLIGHT
TZOFFSETFROM:+0000
TZOFFSETTO:+0100
TZNAME:WEST
DTSTART:20270328T010000
END:DAYLIGHT
BEGIN:STANDARD
TZOFFSETFROM:+0100
TZOFFSETTO:+0000
TZNAME:WET
DTSTART:20271031T010000
END:STANDARD
END:VTIMEZONE
BEGIN:VEVENT
DTSTART;VALUE=DATE:20260424
DTEND;VALUE=DATE:20260426
DTSTAMP:20260421T114323
CREATED:20260224T142557Z
LAST-MODIFIED:20260224T142557Z
UID:183780-1776988800-1777161599@saudeonline.pt
SUMMARY:Reunião Nacional de Cirurgia da Mama 2026
DESCRIPTION:Pode consultar mais informações AQUI.
URL:https://saudeonline.pt/evento/reuniao-nacional-de-cirurgia-da-mama-2026/
CATEGORIES:Gine Agenda,Onco Agenda
ATTACH;FMTTYPE=image/jpeg:https://saudeonline.pt/wp-content/uploads/2026/02/images.jpg
END:VEVENT
BEGIN:VEVENT
DTSTART;VALUE=DATE:20260424
DTEND;VALUE=DATE:20260427
DTSTAMP:20260421T114323
CREATED:20260224T122622Z
LAST-MODIFIED:20260224T122622Z
UID:183760-1776988800-1777247999@saudeonline.pt
SUMMARY:Congresso Português de Cardiologia - CPCP 2026
DESCRIPTION:Pode consultar mais informações AQUI.
URL:https://saudeonline.pt/evento/congresso-portugues-de-cardiologia-cpcp-2026/
CATEGORIES:Cardio Agenda
ATTACH;FMTTYPE=image/jpeg:https://saudeonline.pt/wp-content/uploads/2026/02/imagem_agenda_nf_8._6895de2a14aad3.47004701.jpg
END:VEVENT
BEGIN:VEVENT
DTSTART;VALUE=DATE:20260504
DTEND;VALUE=DATE:20260507
DTSTAMP:20260421T114323
CREATED:20260224T153728Z
LAST-MODIFIED:20260224T153728Z
UID:183818-1777852800-1778111999@saudeonline.pt
SUMMARY:“Innovations and Transdisciplinarity in the Orthopaedic Future”
DESCRIPTION:Pode consultar mais informações AQUI.
URL:https://saudeonline.pt/evento/innovations-and-transdisciplinarity-in-the-orthopaedic-future/
CATEGORIES:Orto Agenda
ATTACH;FMTTYPE=image/jpeg:https://saudeonline.pt/wp-content/uploads/2026/02/efort26.jpg
END:VEVENT
BEGIN:VEVENT
DTSTART;VALUE=DATE:20260507
DTEND;VALUE=DATE:20260509
DTSTAMP:20260421T114323
CREATED:20251211T123255Z
LAST-MODIFIED:20251211T123255Z
UID:181525-1778112000-1778284799@saudeonline.pt
SUMMARY:25.as Jornadas de Pneumologia em MGF de Lisboa
DESCRIPTION:Pode consultar mais informações AQUI.
URL:https://saudeonline.pt/evento/25-as-jornadas-de-pneumologia-em-mgf-de-lisboa/
CATEGORIES:MGF Agenda,Pneumo Agenda
ATTACH;FMTTYPE=image/jpeg:https://saudeonline.pt/wp-content/uploads/2025/12/pnu-1.jpg
END:VEVENT
BEGIN:VEVENT
DTSTART;VALUE=DATE:20260508
DTEND;VALUE=DATE:20260509
DTSTAMP:20260421T114323
CREATED:20260324T161847Z
LAST-MODIFIED:20260324T161847Z
UID:185024-1778198400-1778284799@saudeonline.pt
SUMMARY:Uveitis Boot Camp\, 2.ª Edição
DESCRIPTION:Pode consultar mais informações AQUI.
URL:https://saudeonline.pt/evento/uveitis-boot-camp-2-a-edicao/
CATEGORIES:Oftalmo Agenda
ATTACH;FMTTYPE=image/jpeg:https://saudeonline.pt/wp-content/uploads/2026/03/SPO-UVEITIS-Boot-Camp-2-edicao-2-724x1024-1.jpg
END:VEVENT
BEGIN:VEVENT
DTSTART;VALUE=DATE:20260508
DTEND;VALUE=DATE:20260510
DTSTAMP:20260421T114323
CREATED:20251211T114459Z
LAST-MODIFIED:20251211T114459Z
UID:181484-1778198400-1778371199@saudeonline.pt
SUMMARY:XL Jornadas de Estudos da Reprodução
DESCRIPTION:Pode consultar mais informações AQUI.
URL:https://saudeonline.pt/evento/xl-jornadas-de-estudos-da-reproducao/
CATEGORIES:Gine Agenda
ATTACH;FMTTYPE=image/jpeg:https://saudeonline.pt/wp-content/uploads/2025/12/site-ad-me-udic_xl-jornadas-de-estudos-da-reproduc-a-ao_h.png-1110x300-1.jpg
END:VEVENT
BEGIN:VEVENT
DTSTART;VALUE=DATE:20260514
DTEND;VALUE=DATE:20260516
DTSTAMP:20260421T114323
CREATED:20260209T113822Z
LAST-MODIFIED:20260209T113822Z
UID:183114-1778716800-1778889599@saudeonline.pt
SUMMARY:III Congresso de Cuidados Respiratórios/II Congresso Ibérico de Cuidados Respiratórios
DESCRIPTION:Pode consultar mais informações AQUI.
URL:https://saudeonline.pt/evento/iii-congresso-de-cuidados-respiratorios-ii-congresso-iberico-de-cuidados-respiratorios/
CATEGORIES:Med Interna Agenda,MGF Agenda,Pneumo Agenda
ATTACH;FMTTYPE=image/jpeg:https://saudeonline.pt/wp-content/uploads/2026/02/cresp-novo.jpg
END:VEVENT
BEGIN:VEVENT
DTSTART;VALUE=DATE:20260514
DTEND;VALUE=DATE:20260517
DTSTAMP:20260421T114323
CREATED:20251211T123633Z
LAST-MODIFIED:20251211T123633Z
UID:181528-1778716800-1778975999@saudeonline.pt
SUMMARY:36.as Jornadas de MGF da Madeira e Continente
DESCRIPTION:Pode consultar mais informações AQUI.
URL:https://saudeonline.pt/evento/36-as-jornadas-de-mgf-da-madeira-e-continente/
CATEGORIES:MGF Agenda
ATTACH;FMTTYPE=image/jpeg:https://saudeonline.pt/wp-content/uploads/2025/12/madeira-1.jpg
END:VEVENT
BEGIN:VEVENT
DTSTART;VALUE=DATE:20260514
DTEND;VALUE=DATE:20260530
DTSTAMP:20260421T114323
CREATED:20260325T143531Z
LAST-MODIFIED:20260325T143531Z
UID:185095-1778716800-1780099199@saudeonline.pt
SUMMARY:Curso Intensivo em Medicina da Dor
DESCRIPTION:Pode consultar mais informações AQUI.
URL:https://saudeonline.pt/evento/curso-intensivo-em-medicina-da-dor/
CATEGORIES:Dor Agenda,Med Interna Agenda,MGF Agenda
ATTACH;FMTTYPE=image/jpeg:https://saudeonline.pt/wp-content/uploads/2026/03/CURSO-DOR.jpg
END:VEVENT
BEGIN:VEVENT
DTSTART;VALUE=DATE:20260515
DTEND;VALUE=DATE:20260516
DTSTAMP:20260421T114323
CREATED:20260325T172659Z
LAST-MODIFIED:20260325T172659Z
UID:185106-1778803200-1778889599@saudeonline.pt
SUMMARY:III Jornadas Multidisciplinares de Cirurgia da ULS Oeste
DESCRIPTION:Pode consultar mais informações AQUI.
URL:https://saudeonline.pt/evento/iii-jornadas-multidisciplinares-de-cirurgia-da-uls-oeste/
CATEGORIES:Cirurg Agenda,Med Interna Agenda
ATTACH;FMTTYPE=image/jpeg:https://saudeonline.pt/wp-content/uploads/2026/03/13dc91af-6e3e-42ce-9602-6610b8422607.jpg
END:VEVENT
BEGIN:VEVENT
DTSTART;VALUE=DATE:20260515
DTEND;VALUE=DATE:20260517
DTSTAMP:20260421T114323
CREATED:20260224T154041Z
LAST-MODIFIED:20260224T154041Z
UID:183821-1778803200-1778975999@saudeonline.pt
SUMMARY:6.º Congresso SPOC
DESCRIPTION:Pode consultar mais informações AQUI.
URL:https://saudeonline.pt/evento/6-o-congresso-spoc/
CATEGORIES:Orto Agenda
ATTACH;FMTTYPE=image/jpeg:https://saudeonline.pt/wp-content/uploads/2026/02/6-congresso-coimbra.jpg
END:VEVENT
BEGIN:VEVENT
DTSTART;VALUE=DATE:20260518
DTEND;VALUE=DATE:20260521
DTSTAMP:20260421T114323
CREATED:20260224T164436Z
LAST-MODIFIED:20260224T164436Z
UID:183824-1779062400-1779321599@saudeonline.pt
SUMMARY:23.ªs Jornadas de MGF dos Açores em Ponta Delgada
DESCRIPTION:Pode consultar mais informações AQUI.
URL:https://saudeonline.pt/evento/23-as-jornadas-de-mgf-dos-acores-em-ponta-delgada/
CATEGORIES:MGF Agenda
ATTACH;FMTTYPE=image/jpeg:https://saudeonline.pt/wp-content/uploads/2026/02/Portal-3.jpg
END:VEVENT
BEGIN:VEVENT
DTSTART;VALUE=DATE:20260521
DTEND;VALUE=DATE:20260523
DTSTAMP:20260421T114323
CREATED:20251211T115204Z
LAST-MODIFIED:20251211T115204Z
UID:181489-1779321600-1779494399@saudeonline.pt
SUMMARY:3.º Congresso Nacional de Ginecologia para MGF
DESCRIPTION:Pode consultar mais informações AQUI.
URL:https://saudeonline.pt/evento/3-o-congresso-nacional-de-ginecologia-para-mgf/
CATEGORIES:Gine Agenda,MGF Agenda
ATTACH;FMTTYPE=image/jpeg:https://saudeonline.pt/wp-content/uploads/2025/12/imagens-site_3-congresso-nacional-de-ginecologia-em-mgf-2026_h.jpg-1110x300-1.jpg
END:VEVENT
BEGIN:VEVENT
DTSTART;VALUE=DATE:20260521
DTEND;VALUE=DATE:20260523
DTSTAMP:20260421T114323
CREATED:20251211T120132Z
LAST-MODIFIED:20251211T120132Z
UID:181498-1779321600-1779494399@saudeonline.pt
SUMMARY:11.º Encontro Nacional de Intervenção Precoce na Psicose
DESCRIPTION:Pode consultar mais informações AQUI.
URL:https://saudeonline.pt/evento/11-o-encontro-nacional-de-intervencao-precoce-na-psicose/
CATEGORIES:Psiq Agenda
ATTACH;FMTTYPE=image/jpeg:https://saudeonline.pt/wp-content/uploads/2025/12/Capturar-psioc-1.jpg
END:VEVENT
BEGIN:VEVENT
DTSTART;VALUE=DATE:20260521
DTEND;VALUE=DATE:20260523
DTSTAMP:20260421T114323
CREATED:20260224T144050Z
LAST-MODIFIED:20260224T144050Z
UID:183789-1779321600-1779494399@saudeonline.pt
SUMMARY:11.º Encontro Nacional de Intervenção Precoce na Psicose
DESCRIPTION:Pode consultar mais informações AQUI.
URL:https://saudeonline.pt/evento/11-o-encontro-nacional-de-intervencao-precoce-na-psicose-2/
CATEGORIES:Psiq Agenda
ATTACH;FMTTYPE=image/jpeg:https://saudeonline.pt/wp-content/uploads/2026/02/Redes-Sociais1920x1080px_11o-Encontro-Nacional-Intervencao-Precoce-na-Psicose-Primeiro-Episodio-Psicotico-–-2026.jpg
END:VEVENT
BEGIN:VEVENT
DTSTART;VALUE=DATE:20260521
DTEND;VALUE=DATE:20260524
DTSTAMP:20260421T114323
CREATED:20251211T115605Z
LAST-MODIFIED:20251211T115605Z
UID:181492-1779321600-1779580799@saudeonline.pt
SUMMARY:32.º Congresso Nacional de Medicina Interna
DESCRIPTION:Pode consultar mais informações AQUI.
URL:https://saudeonline.pt/evento/32-o-congresso-nacional-de-medicina-interna/
CATEGORIES:Med Interna Agenda
ATTACH;FMTTYPE=image/jpeg:https://saudeonline.pt/wp-content/uploads/2025/12/500x296_32-Congresso-Nac-MI.jpg
END:VEVENT
BEGIN:VEVENT
DTSTART;VALUE=DATE:20260522
DTEND;VALUE=DATE:20260524
DTSTAMP:20260421T114323
CREATED:20260224T152730Z
LAST-MODIFIED:20260224T152730Z
UID:183813-1779408000-1779580799@saudeonline.pt
SUMMARY:Fórum Art & Treat – ESPONDILARTRITES
DESCRIPTION:Pode consultar mais informações AQUI.
URL:https://saudeonline.pt/evento/forum-art-treat-espondilartrites/
CATEGORIES:Reuma Agenda
END:VEVENT
BEGIN:VEVENT
DTSTART;VALUE=DATE:20260522
DTEND;VALUE=DATE:20260524
DTSTAMP:20260421T114323
CREATED:20260324T161012Z
LAST-MODIFIED:20260324T161012Z
UID:185018-1779408000-1779580799@saudeonline.pt
SUMMARY:Fórum Art & Treat – ESPONDILARTRITES
DESCRIPTION:Pode consultar mais informações AQUI.
URL:https://saudeonline.pt/evento/forum-art-treat-espondilartrites-2/
CATEGORIES:Reuma Agenda
ATTACH;FMTTYPE=image/jpeg:https://saudeonline.pt/wp-content/uploads/2026/03/imagem-final-1.jpg
END:VEVENT
BEGIN:VEVENT
DTSTART;VALUE=DATE:20260522
DTEND;VALUE=DATE:20260525
DTSTAMP:20260421T114323
CREATED:20260324T162306Z
LAST-MODIFIED:20260324T162306Z
UID:185028-1779408000-1779667199@saudeonline.pt
SUMMARY:17.º EuCornea
DESCRIPTION:Pode consultar mais informações AQUI.
URL:https://saudeonline.pt/evento/17-o-eucornea/
CATEGORIES:Oftalmo Agenda
END:VEVENT
BEGIN:VEVENT
DTSTART;VALUE=DATE:20260528
DTEND;VALUE=DATE:20260530
DTSTAMP:20260421T114323
CREATED:20251211T120430Z
LAST-MODIFIED:20251211T120430Z
UID:181501-1779926400-1780099199@saudeonline.pt
SUMMARY:XVIII Jornadas de Endocrinologia e Diabetes de Lisboa Ocidental
DESCRIPTION:Pode consultar mais informações AQUI.
URL:https://saudeonline.pt/evento/xviii-jornadas-de-endocrinologia-e-diabetes-de-lisboa-ocidental/
CATEGORIES:Endo Agenda,Med Interna Agenda,MGF Agenda
ATTACH;FMTTYPE=image/jpeg:https://saudeonline.pt/wp-content/uploads/2025/12/site-ad-me-udic-xviii-jornadas-de-endocrinologia-e-diabetes-de-lisboa-ocidental-h.png-1110x300-1.jpg
END:VEVENT
BEGIN:VEVENT
DTSTART;VALUE=DATE:20260528
DTEND;VALUE=DATE:20260530
DTSTAMP:20260421T114323
CREATED:20260224T165314Z
LAST-MODIFIED:20260224T165314Z
UID:183830-1779926400-1780099199@saudeonline.pt
SUMMARY:26.º Encontro de Medicina Geral e Familiar do Alto Minho
DESCRIPTION:Pode consultar mais informações AQUI.
URL:https://saudeonline.pt/evento/26-o-encontro-de-medicina-geral-e-familiar-do-alto-minho/
CATEGORIES:MGF Agenda
ATTACH;FMTTYPE=image/jpeg:https://saudeonline.pt/wp-content/uploads/2026/02/Portal-3.jpg
END:VEVENT
BEGIN:VEVENT
DTSTART;VALUE=DATE:20260528
DTEND;VALUE=DATE:20260731
DTSTAMP:20260421T114323
CREATED:20260324T162551Z
LAST-MODIFIED:20260324T162551Z
UID:185030-1779926400-1785455999@saudeonline.pt
SUMMARY:Reunião dos Grupos Portugueses de Cirurgia Implanto Refrativa e Oculoplástica
DESCRIPTION:Pode consultar mais informações AQUI.
URL:https://saudeonline.pt/evento/reuniao-dos-grupos-portugueses-de-cirurgia-implanto-refrativa-e-oculoplastica/
CATEGORIES:Oftalmo Agenda
ATTACH;FMTTYPE=image/jpeg:https://saudeonline.pt/wp-content/uploads/2026/03/image002-1024x800-1.jpg
END:VEVENT
BEGIN:VEVENT
DTSTART;VALUE=DATE:20260605
DTEND;VALUE=DATE:20260607
DTSTAMP:20260421T114323
CREATED:20260224T144628Z
LAST-MODIFIED:20260224T144628Z
UID:183792-1780617600-1780790399@saudeonline.pt
SUMMARY:209.ª Reunião da Sociedade Portuguesa de Ginecologia
DESCRIPTION:Pode consultar mais informações AQUI.
URL:https://saudeonline.pt/evento/209-a-reuniao-da-sociedade-portuguesa-de-ginecologia/
ATTACH;FMTTYPE=image/jpeg:https://saudeonline.pt/wp-content/uploads/2026/02/site-ad-me-udic_209-a-reunia-ao-da-sociedade-portuguesa-de-ginecologia_h.png-1110x300_ALT.jpg
END:VEVENT
BEGIN:VEVENT
DTSTART;VALUE=DATE:20260611
DTEND;VALUE=DATE:20260613
DTSTAMP:20260421T114323
CREATED:20260317T112020Z
LAST-MODIFIED:20260317T112020Z
UID:184534-1781136000-1781308799@saudeonline.pt
SUMMARY:Curso Avançado em Doenças Respiratórias
DESCRIPTION:Pode consultar mais informações AQUI.
URL:https://saudeonline.pt/evento/curso-avancado-em-doencas-respiratorias/
CATEGORIES:Med Interna Agenda,MGF Agenda,Pneumo Agenda
ATTACH;FMTTYPE=image/jpeg:https://saudeonline.pt/wp-content/uploads/2026/03/IMG-20260312-WA0018.jpg
END:VEVENT
BEGIN:VEVENT
DTSTART;VALUE=DATE:20260626
DTEND;VALUE=DATE:20260628
DTSTAMP:20260421T114323
CREATED:20260324T170530Z
LAST-MODIFIED:20260324T170530Z
UID:185046-1782432000-1782604799@saudeonline.pt
SUMMARY:II Portuguese Conference on Robotic Surgery
DESCRIPTION:Pode consultar mais informações AQUI.
URL:https://saudeonline.pt/evento/ii-portuguese-conference-on-robotic-surgery/
CATEGORIES:Orto Agenda
ATTACH;FMTTYPE=image/jpeg:https://saudeonline.pt/wp-content/uploads/2026/03/site-ad-me-udic_ii-portuguese-conference-on-robotic-surgery_c.png-650x650-640w.jpg
END:VEVENT
BEGIN:VEVENT
DTSTART;VALUE=DATE:20260702
DTEND;VALUE=DATE:20260705
DTSTAMP:20260421T114323
CREATED:20260209T113031Z
LAST-MODIFIED:20260209T113031Z
UID:183110-1782950400-1783209599@saudeonline.pt
SUMMARY:25.º Congresso da Sociedade Portuguesa de Dermatologia e Venereologia
DESCRIPTION:Pode consultar mais informações AQUI.
URL:https://saudeonline.pt/evento/25-o-congresso-da-sociedade-portuguesa-de-dermatologia-e-venereologia/
CATEGORIES:Derma Agenda
ATTACH;FMTTYPE=image/jpeg:https://saudeonline.pt/wp-content/uploads/2026/02/novo.jpg
END:VEVENT
BEGIN:VEVENT
DTSTART;VALUE=DATE:20260910
DTEND;VALUE=DATE:20260913
DTSTAMP:20260421T114323
CREATED:20260324T163354Z
LAST-MODIFIED:20260324T163354Z
UID:185034-1788998400-1789257599@saudeonline.pt
SUMMARY:44.º ESOPRS
DESCRIPTION:Pode consultar mais informações AQUI.
URL:https://saudeonline.pt/evento/44-o-esoprs/
CATEGORIES:Oftalmo Agenda
ATTACH;FMTTYPE=image/jpeg:https://saudeonline.pt/wp-content/uploads/2026/03/POSTER_44-ESOPRS-Meeting-3s.jpg
END:VEVENT
BEGIN:VEVENT
DTSTART;VALUE=DATE:20260916
DTEND;VALUE=DATE:20260919
DTSTAMP:20260421T114323
CREATED:20260325T143909Z
LAST-MODIFIED:20260325T143909Z
UID:185099-1789516800-1789775999@saudeonline.pt
SUMMARY:Congresso Multidisciplinar da Dor 2026
DESCRIPTION:Pode consultar mais informações AQUI.
URL:https://saudeonline.pt/evento/congresso-multidisciplinar-da-dor-2026/
CATEGORIES:Dor Agenda,Med Interna Agenda,MGF Agenda
ATTACH;FMTTYPE=image/jpeg:https://saudeonline.pt/wp-content/uploads/2026/03/Cartaz-CMD-2026.jpg
END:VEVENT
BEGIN:VEVENT
DTSTART;VALUE=DATE:20260925
DTEND;VALUE=DATE:20260927
DTSTAMP:20260421T114323
CREATED:20260224T145249Z
LAST-MODIFIED:20260224T145249Z
UID:183795-1790294400-1790467199@saudeonline.pt
SUMMARY:15.ª Reunião Nacional da Sociedade Portuguesa da Contracepção
DESCRIPTION:Pode consultar mais informações AQUI.
URL:https://saudeonline.pt/evento/15-a-reuniao-nacional-da-sociedade-portuguesa-da-contracepcao/
CATEGORIES:Gine Agenda,MGF Agenda
ATTACH;FMTTYPE=image/jpeg:https://saudeonline.pt/wp-content/uploads/2026/02/site_15-a-reunia-ao-nacional-da-sociedade-portuguesa-da-contracec-a-ao_h.png-1110x300-1.jpg
END:VEVENT
BEGIN:VEVENT
DTSTART;VALUE=DATE:20261007
DTEND;VALUE=DATE:20261010
DTSTAMP:20260421T114323
CREATED:20251211T125048Z
LAST-MODIFIED:20251211T125048Z
UID:181541-1791331200-1791590399@saudeonline.pt
SUMMARY:22.º Congresso Nacional de Cancro Digestivo
DESCRIPTION:Pode consultar mais informações AQUI.
URL:https://saudeonline.pt/evento/22-o-congresso-nacional-de-cancro-digestivo/
CATEGORIES:Onco Agenda
ATTACH;FMTTYPE=image/jpeg:https://saudeonline.pt/wp-content/uploads/2025/12/BANNER_1080x1080px_GICD_2026-1024x1024-1.jpg
END:VEVENT
END:VCALENDAR